{"text_format":"1","workbook":"xlsx","n_sheets":9,"sheets":["説明","調査書印刷","学校基本","生徒基本 ","出席状況","身体状況","成績表","特別活動等","担任所見"],"not_rendered":{"charts":0,"images":3,"macros":1,"external_links":0,"defined_names":2,"comments":4,"pivot_tables":0},"unopened":[],"bounds":{"document_bytes":16777216,"sheet_cells":100000,"rows_first":2000,"rows_last":500,"rows_between":2000,"halvings":0,"cell_chars":16384,"cell_head_chars":4096},"cells_cut":0,"cells_raw":0,"read":"whole","date_system":"1900"}

{"sheet":"説明","index":0,"n_rows":64,"n_cols":15,"rows_kept":64,"cut":false,"hidden":false,"merged":[[19,2,19,4],[8,1,10,1],[13,1,15,1],[3,4,3,16],[1,3,1,8],[8,2,10,2],[13,2,15,2],[5,4,5,6],[5,7,5,8]]}
[]
[null,null,null,"操 作 説 明"]
[]
[null,"手順","項　　目",null,"内　　　　　　　　容　"]
[]
[null,1,"ファイルを開く",null,"「マクロを有効にする」",null,null,"にして開くと",null,"マクロ印刷ができます。"]
[]
[]
[null,2,"データの入力",null,"まず、画面下に表示されたシート名「学校基本」をクリックして選び入力。"]
[]
[null,null,null,null,"次に、「生徒基本」に入力する。他のシートも同様に入力する。"]
[]
[]
[null,3,"調査書の印刷",null,"シート名「調査書印刷」を選び画面右の開始番号・終了番号欄に生徒番号を"]
[]
[null,null,null,null,"入力して「印刷」ボタンをクリックする。",null,null,null,null,null,"または","Ctrl","＋","P","でも印刷可。"]
[]
[]
[]
[null,"※","「マクロを有効にする」"]
[]
[]
[]
[]
[null,null,null,null,null,null,null,null,null,null,"オプションをクリックする。"]
[]
[]
[]
[]
[]
[]
[]
[]
[]
[]
[]
[]
[]
[]
[]
[]
[]
[null,null,null,null,null,null,null,null,null,null,"「このコンテンツを有効にする」を"]
[null,null,null,null,null,null,null,null,null,null,"選択して，「OK」をクリックする。"]
[]
[]
[]
[]
[]
[]
[]
[]
[]
[]
[]
[]
[]
[]
[null,"※","もし，白黒で印刷されないときは"]
[]
[null,null,"①　「ページレイアウト」からページ設定を選択。"]
[]
[null,null,"②　「シート」タブ内の『白黒印刷』にチェック☑を"]
[null,null,"　　入れてください。"]

{"sheet":"調査書印刷","index":1,"n_rows":112,"n_cols":83,"rows_kept":112,"cut":false,"hidden":false,"merged":[[75,8,77,31],[75,32,77,70],[5,67,7,68],[5,63,7,66],[5,61,7,62],[5,57,7,60],[5,55,7,56],[5,51,7,54],[5,47,7,50],[8,4,10,31],[11,37,13,46],[14,37,17,46],[14,47,17,62],[15,66,16,67],[11,47,13,70],[63,14,68,19],[63,20,68,25],[18,0,21,70],[22,0,24,7],[22,69,24,70],[22,51,24,54],[22,49,24,50],[22,45,24,48],[22,43,24,44],[22,39,24,42],[22,35,24,38],[34,57,40,63],[22,27,24,34],[25,35,27,36],[28,35,30,36],[31,35,33,36],[25,37,27,38],[28,37,30,38],[31,37,33,38],[22,55,24,57],[22,58,24,63],[28,56,30,70],[25,56,27,70],[31,56,33,70],[25,41,27,55],[28,41,30,55],[34,8,40,14],[34,15,40,21],[34,22,40,28],[34,29,40,35],[22,8,24,26],[25,31,27,34],[28,31,30,34],[25,8,33,26],[25,27,27,30],[28,27,30,30],[31,27,33,30],[31,31,33,34],[41,43,47,49],[41,50,47,56],[31,41,33,55],[34,36,40,42],[25,39,27,40],[28,39,30,40],[31,39,33,40],[41,15,47,21],[41,29,47,35],[41,22,47,28],[98,0,104,3],[98,4,104,7],[98,8,104,11],[98,12,104,15],[111,40,112,70],[105,40,106,70],[103,35,104,39],[103,40,104,70],[109,4,110,27],[95,65,101,70],[96,0,97,3],[98,16,104,19],[98,20,104,25],[98,26,104,31],[96,4,97,7],[96,8,97,11],[95,42,101,47],[95,48,101,64],[96,12,97,15],[96,16,97,19],[96,20,97,25],[96,26,97,31],[0,51,3,70],[0,25,3,45],[0,15,3,24],[107,35,108,39],[107,40,108,70],[109,40,110,70],[51,26,56,70],[63,26,68,70],[69,8,74,70],[57,20,62,25],[48,8,50,13],[51,8,56,13],[57,8,62,13],[63,8,68,13],[57,14,62,19],[41,57,47,63],[41,64,47,70],[48,14,50,19],[48,20,50,25],[34,64,40,70],[34,43,40,49],[34,50,40,56],[41,8,47,14],[22,64,24,68],[26,1,32,6],[5,82,6,90],[7,82,10,90],[78,8,84,70],[85,8,94,70],[5,73,6,81],[7,73,10,81],[48,26,50,70],[57,26,62,70],[51,14,56,19],[51,20,56,25],[85,0,94,7],[80,0,82,7],[77,0,79,7],[51,3,56,7],[57,3,62,7],[69,0,74,7],[63,3,68,7],[34,0,47,2],[48,3,50,7],[48,0,68,2],[34,3,40,7],[41,3,47,7],[41,36,47,42]]}
[null,null,null,null,null,null,null,null,null,null,null,null,null,null,null,{"$f":"\"平成\"&DBCS(学校基本!G5)&\"年度\"","v":"平成３０年度"},null,null,null,null,null,null,null,null,null,"調査書",null,null,null,null,null,null,null,null,null,null,null,null,null,null,null,null,null,null,null,null,null,null,null,null,null,"※"]
[]
[]
[]
[]
[null,null,null,null,null,null,null,null,null,null,null,null,null,null,null,null,null,null,null,null,null,null,null,null,null,null,null,null,null,null,null,null,null,null,null,null,null,null,null,null,null,null,null,null,null,null,null,"平成",null,null,null,{"$f":"IF(学校基本!G7=\"\",\"\",学校基本!G7)","v":""},null,null,null,"年",null,{"$f":"IF(学校基本!G8=\"\",\"\",学校基本!G8)","v":""},null,null,null,"月",null,{"$f":"IF(学校基本!G9=\"\",\"\",学校基本!G9)","v":""},null,null,null,"日",null,null,null,null,null,"開始番号",null,null,null,null,null,null,null,null,"終了番号"]
[]
[null,null,null,null,null,null,null,null,null,null,null,null,null,null,null,null,null,null,null,null,null,null,null,null,null,null,null,null,null,null,null,null,null,null,null,null,null,null,null,null,null,null,null,null,null,null,null,null,null,null,null,null,null,null,null,null,null,null,null,null,null,null,null,null,null,null,null,null,null,null,null,null,null,3,null,null,null,null,null,null,null,null,2]
[null,null,null,null,"樟南高等学校長　時任保彦　殿"]
[]
[]
[null,null,null,null,null,null,null,null,null,null,null,null,null,null,null,null,null,null,null,null,null,null,null,null,null,null,null,null,null,null,null,null,null,null,null,null,null,"中学校名",null,null,null,null,null,null,null,null,null,{"$f":"IF(学校基本!G11=\"\",\"\",学校基本!G11&\"　中学校\")","v":""}]
[]
[]
[null,null,null,null,null,null,null,null,null,null,null,null,null,null,null,null,null,null,null,null,null,null,null,null,null,null,null,null,null,null,null,null,null,null,null,null,null,"学校長名",null,null,null,null,null,null,null,null,null,{"$f":"IF(学校基本!G13=\"\",\"\",学校基本!G13)","v":""}]
[null,null,null,null,null,null,null,null,null,null,null,null,null,null,null,null,null,null,null,null,null,null,null,null,null,null,null,null,null,null,null,null,null,null,null,null,null,null,null,null,null,null,null,null,null,null,null,null,null,null,null,null,null,null,null,null,null,null,null,null,null,null,null,null,null,null,"印"]
[]
[]
["下記の通り相違ないことを証明します。"]
[]
[]
[]
["ふりがな",null,null,null,null,null,null,null,{"$f":"IF(VLOOKUP($BV$8,'生徒基本 '!$A$3:$K$42,3)=\"\",\"\",VLOOKUP($BV$8,'生徒基本 '!$A$3:$K$42,3))","v":""},null,null,null,null,null,null,null,null,null,null,null,null,null,null,null,null,null,null,"生年月日",null,null,null,null,null,null,null,{"$f":"IF(VLOOKUP($BV$8,'生徒基本 '!$A$3:$K$42,4)=\"\",\"\",VLOOKUP($BV$8,'生徒基本 '!$A$3:$K$42,4))","v":""},null,null,null,{"$f":"IF(VLOOKUP($BV$8,'生徒基本 '!$A$3:$K$42,5)=\"\",\"\",VLOOKUP($BV$8,'生徒基本 '!$A$3:$K$42,5))","v":""},null,null,null,"年",null,{"$f":"IF(VLOOKUP($BV$8,'生徒基本 '!$A$3:$K$42,6)=\"\",\"\",VLOOKUP($BV$8,'生徒基本 '!$A$3:$K$42,6))","v":""},null,null,null,"月",null,{"$f":"IF(VLOOKUP($BV$8,'生徒基本 '!$A$3:$K$42,7)=\"\",\"\",VLOOKUP($BV$8,'生徒基本 '!$A$3:$K$42,7))","v":""},null,null,null,"日",null,null,"性別　（",null,null,null,null,null,{"$f":"IF(VLOOKUP($BV$8,'生徒基本 '!$A$3:$K$42,8)=\"\",\"\",VLOOKUP($BV$8,'生徒基本 '!$A$3:$K$42,8))","v":""},null,null,null,null,"）"]
[]
[]
[null,null,null,null,null,null,null,null,{"$f":"IF(VLOOKUP($BV$8,'生徒基本 '!$A$3:$K$42,2)=\"\",\"\",VLOOKUP($BV$8,'生徒基本 '!$A$3:$K$42,2))","v":""},null,null,null,null,null,null,null,null,null,null,null,null,null,null,null,null,null,null,"平成",null,null,null,{"$f":"IF(VLOOKUP($BV$8,'生徒基本 '!$A$3:$K$42,9)=\"\",\"\",VLOOKUP($BV$8,'生徒基本 '!$A$3:$K$42,9))","v":""},null,null,null,"年",null,4,null,"月",null,{"$f":"IF(VLOOKUP($BV$8,'生徒基本 '!$A$3:$K$42,10)=\"\",学校基本!G11,VLOOKUP($BV$8,'生徒基本 '!$A$3:$K$42,10))","v":0},null,null,null,null,null,null,null,null,null,null,null,null,null,null,"中学校入学"]
[null,"氏　 名"]
[]
[null,null,null,null,null,null,null,null,null,null,null,null,null,null,null,null,null,null,null,null,null,null,null,null,null,null,null,"平成",null,null,null,{"$f":"IF(AF32=\"\",学校基本!G5,\"\")","v":30},null,null,null,"年",null,{"$f":"IF(AF29=\"\",\"\",3)","v":3},null,"月",null,{"$f":"IF(AP32=\"\",学校基本!G11,\"\")","v":0},null,null,null,null,null,null,null,null,null,null,null,null,null,null,"中学校卒業見込み"]
[]
[]
[null,null,null,null,null,null,null,null,null,null,null,null,null,null,null,null,null,null,null,null,null,null,null,null,null,null,null,"平成",null,null,null,{"$f":"IF(VLOOKUP($BV$8,'生徒基本 '!$A$3:$K$42,11)=\"\",\"\",VLOOKUP($BV$8,'生徒基本 '!$A$3:$K$42,11))","v":""},null,null,null,"年",null,{"$f":"IF(AF32=\"\",\"\",3)","v":""},null,"月",null,{"$f":"IF(AF32=\"\",\"\",学校基本!G11)","v":""},null,null,null,null,null,null,null,null,null,null,null,null,null,null,"中学校卒業"]
[]
[]
["学習の記録",null,null,"教科",null,null,null,null,"国語",null,null,null,null,null,null,"社会",null,null,null,null,null,null,"数学",null,null,null,null,null,null,"理科",null,null,null,null,null,null,"音楽",null,null,null,null,null,null,"美術",null,null,null,null,null,null,"保健\n体育",null,null,null,null,null,null,"技術\n家庭",null,null,null,null,null,null,"外国語"]
[]
[]
[]
[]
[]
[]
[null,null,null,"５段階\n評　定",null,null,null,null,{"$f":"IF(VLOOKUP($BV$8,成績表!$A$4:$K$43,3)=\"\",\"\",VLOOKUP($BV$8,成績表!$A$4:$K$43,3))","v":""},null,null,null,null,null,null,{"$f":"IF(VLOOKUP($BV$8,成績表!$A$4:$K$43,4)=\"\",\"\",VLOOKUP($BV$8,成績表!$A$4:$K$43,4))","v":""},null,null,null,null,null,null,{"$f":"IF(VLOOKUP($BV$8,成績表!$A$4:$K$43,5)=\"\",\"\",VLOOKUP($BV$8,成績表!$A$4:$K$43,5))","v":""},null,null,null,null,null,null,{"$f":"IF(VLOOKUP($BV$8,成績表!$A$4:$K$43,6)=\"\",\"\",VLOOKUP($BV$8,成績表!$A$4:$K$43,6))","v":""},null,null,null,null,null,null,{"$f":"IF(VLOOKUP($BV$8,成績表!$A$4:$K$43,7)=\"\",\"\",VLOOKUP($BV$8,成績表!$A$4:$K$43,7))","v":""},null,null,null,null,null,null,{"$f":"IF(VLOOKUP($BV$8,成績表!$A$4:$K$43,8)=\"\",\"\",VLOOKUP($BV$8,成績表!$A$4:$K$43,8))","v":""},null,null,null,null,null,null,{"$f":"IF(VLOOKUP($BV$8,成績表!$A$4:$K$43,9)=\"\",\"\",VLOOKUP($BV$8,成績表!$A$4:$K$43,9))","v":""},null,null,null,null,null,null,{"$f":"IF(VLOOKUP($BV$8,成績表!$A$4:$K$43,10)=\"\",\"\",VLOOKUP($BV$8,成績表!$A$4:$K$43,10))","v":""},null,null,null,null,null,null,{"$f":"IF(VLOOKUP($BV$8,成績表!$A$4:$K$43,11)=\"\",\"\",VLOOKUP($BV$8,成績表!$A$4:$K$43,11))","v":""}]
[]
[]
[]
[]
[]
[]
["出席状況",null,null,null,null,null,null,null,"欠席",null,null,null,null,null,"遅刻",null,null,null,null,null,"早退",null,null,null,null,null,"欠席・遅刻・早退の主な理由"]
[]
[]
[null,null,null,"１年",null,null,null,null,{"$f":"IF(VLOOKUP($BV$8,出席状況!$A$3:$N$42,3)=\"\",\"\",VLOOKUP($BV$8,出席状況!$A$3:$N$42,3))","v":""},null,null,null,null,null,{"$f":"IF(VLOOKUP($BV$8,出席状況!$A$3:$N$42,4)=\"\",\"\",VLOOKUP($BV$8,出席状況!$A$3:$N$42,4))","v":""},null,null,null,null,null,{"$f":"IF(VLOOKUP($BV$8,出席状況!$A$3:$N$42,5)=\"\",\"\",VLOOKUP($BV$8,出席状況!$A$3:$N$42,5))","v":""},null,null,null,null,null,{"$f":"IF(VLOOKUP($BV$8,出席状況!$A$3:$N$42,6)=\"\",\"\",VLOOKUP($BV$8,出席状況!$A$3:$N$42,6))","v":""}]
[]
[]
[]
[]
[]
[null,null,null,"２年",null,null,null,null,{"$f":"IF(VLOOKUP($BV$8,出席状況!$A$3:$N$42,7)=\"\",\"\",VLOOKUP($BV$8,出席状況!$A$3:$N$42,7))","v":""},null,null,null,null,null,{"$f":"IF(VLOOKUP($BV$8,出席状況!$A$3:$N$42,8)=\"\",\"\",VLOOKUP($BV$8,出席状況!$A$3:$N$42,8))","v":""},null,null,null,null,null,{"$f":"IF(VLOOKUP($BV$8,出席状況!$A$3:$N$42,9)=\"\",\"\",VLOOKUP($BV$8,出席状況!$A$3:$N$42,9))","v":""},null,null,null,null,null,{"$f":"IF(VLOOKUP($BV$8,出席状況!$A$3:$N$42,10)=\"\",\"\",VLOOKUP($BV$8,出席状況!$A$3:$N$42,10))","v":""}]
[]
[]
[]
[]
[]
[null,null,null,"３年",null,null,null,null,{"$f":"IF(VLOOKUP($BV$8,出席状況!$A$3:$N$42,11)=\"\",\"\",VLOOKUP($BV$8,出席状況!$A$3:$N$42,11))","v":""},null,null,null,null,null,{"$f":"IF(VLOOKUP($BV$8,出席状況!$A$3:$N$42,12)=\"\",\"\",VLOOKUP($BV$8,出席状況!$A$3:$N$42,12))","v":""},null,null,null,null,null,{"$f":"IF(VLOOKUP($BV$8,出席状況!$A$3:$N$42,13)=\"\",\"\",VLOOKUP($BV$8,出席状況!$A$3:$N$42,13))","v":""},null,null,null,null,null,{"$f":"IF(VLOOKUP($BV$8,出席状況!$A$3:$N$42,14)=\"\",\"\",VLOOKUP($BV$8,出席状況!$A$3:$N$42,14))","v":""}]
[]
[]
[]
[]
[]
["身体状況",null,null,null,null,null,null,null,{"$f":"IF(VLOOKUP($BV$8,身体状況!$A$3:$L$42,12)=\"\",\"\",VLOOKUP($BV$8,身体状況!$A$3:$L$42,12))","v":""}]
[]
[]
[]
[]
[]
[null,null,null,null,null,null,null,null,{"$f":"\"部活動 ： \"&IF(VLOOKUP(調査書印刷!$BV$8,特別活動等!$A$3:$E$42,3)=\"\",\"なし\",VLOOKUP(調査書印刷!$BV$8,特別活動等!$A$3:$E$42,3))","v":"部活動 ： なし"},null,null,null,null,null,null,null,null,null,null,null,null,null,null,null,null,null,null,null,null,null,null,null,{"$f":"IF(VLOOKUP($BV$8,特別活動等!$A$3:$E$42,4)=\"\",\"\",\"資格取得 ： \"&VLOOKUP($BV$8,特別活動等!$A$3:$E$42,4))","v":""}]
[]
["特別活動"]
[null,null,null,null,null,null,null,null,{"$f":"IF(VLOOKUP($BV$8,特別活動等!$A$3:$E$42,5)=\"\",\"\",VLOOKUP($BV$8,特別活動等!$A$3:$E$42,5))","v":""}]
[]
["等の記録"]
[]
[]
[]
[]
["担任所見\nお　よ　び\n指導上の\n参考事項",null,null,null,null,null,null,null,{"$f":"IF(VLOOKUP($BV$8,担任所見!$A$3:$C$42,3)=\"\",\"\",VLOOKUP($BV$8,担任所見!$A$3:$C$42,3))","v":""}]
[]
[]
[]
[]
[]
[]
[]
[]
[]
[null,null,null,null,null,null,null,null,null,null,null,null,null,null,null,null,null,null,null,null,null,null,null,null,null,null,null,null,null,null,null,null,null,null,null,null,null,null,null,null,null,null,"担 任\n氏 名",null,null,null,null,null,{"$f":"IF(学校基本!G15=\"\",\"\",学校基本!G15)","v":""},null,null,null,null,null,null,null,null,null,null,null,null,null,null,null,null,"印"]
["国語",null,null,null,"数学",null,null,null,"英語",null,null,null,"社会",null,null,null,"理科",null,null,null,"※",null,null,null,null,null,"※"]
[]
["※",null,null,null,"※",null,null,null,"※",null,null,null,"※",null,null,null,"※"]
[]
[]
[]
[]
[null,null,null,null,null,null,null,null,null,null,null,null,null,null,null,null,null,null,null,null,null,null,null,null,null,null,null,null,null,null,null,null,null,null,null,"（注１）",null,null,null,null,"学習の記録及び出席状況は、３学年２学期末で記入"]
[]
[null,null,null,null,null,null,null,null,null,null,null,null,null,null,null,null,null,null,null,null,null,null,null,null,null,null,null,null,null,null,null,null,null,null,null,null,null,null,null,null,"して下さい。"]
[]
[null,null,null,null,null,null,null,null,null,null,null,null,null,null,null,null,null,null,null,null,null,null,null,null,null,null,null,null,null,null,null,null,null,null,null,"（注２）",null,null,null,null,"パソコン処理をする場合は，裏表紙または本用紙の"]
[]
[null,null,null,null,"※印の欄には記入しないで下さい。",null,null,null,null,null,null,null,null,null,null,null,null,null,null,null,null,null,null,null,null,null,null,null,null,null,null,null,null,null,null,null,null,null,null,null,"裏面をとじしろが左側になるように利用するか，厚手"]
[]
[null,null,null,null,null,null,null,null,null,null,null,null,null,null,null,null,null,null,null,null,null,null,null,null,null,null,null,null,null,null,null,null,null,null,null,null,null,null,null,null,"のコピー用紙に印刷して下さい。"]

{"sheet":"学校基本","index":2,"n_rows":15,"n_cols":10,"rows_kept":15,"cut":false,"hidden":false,"merged":[[14,6,14,7],[4,7,4,10],[10,6,10,7],[10,9,10,10],[12,6,12,7]]}
[]
[]
[]
[]
[null,null,1,"作成調査書",null,"平成",30,"年度入学者用"]
[]
[null,null,2,"作成年月日",null,"平成",null,"年"]
[null,null,null,null,null,null,null,"月"]
[null,null,null,null,null,null,null,"日"]
[]
[null,null,3,"中学校名",null,null,null,null,null,"中学校"]
[]
[null,null,4,"校長氏名"]
[]
[null,null,5,"担任氏名"]

{"sheet":"生徒基本 ","index":3,"n_rows":42,"n_cols":11,"rows_kept":42,"cut":false,"hidden":false,"merged":[[0,8,0,9],[0,0,1,0],[0,1,1,1],[0,2,1,2],[0,7,1,7],[0,3,0,6]]}
["№","氏名","ふりがな","生年月日",null,null,null,"性別","中学校入学",null,"過年度卒業者"]
[null,null,null,"元号","年","月","日",null,"年度","転校生の入学中学校名","卒業の年"]
[1]
[2]
[3]
[4]
[5]
[6]
[7]
[8]
[9]
[10]
[11]
[12]
[13]
[14]
[15]
[16]
[17]
[18]
[19]
[20]
[21]
[22]
[23]
[24]
[25]
[26]
[27]
[28]
[29]
[30]
[31]
[32]
[33]
[34]
[35]
[36]
[37]
[38]
[39]
[40]

{"sheet":"出席状況","index":4,"n_rows":42,"n_cols":14,"rows_kept":42,"cut":false,"hidden":false,"merged":[[0,10,0,13],[0,0,1,0],[0,1,1,1],[0,2,0,5],[0,6,0,9]]}
["№","氏名","一年",null,null,null,"二年",null,null,null,"三年（２学期末）"]
[null,null,"欠席","遅刻","早退","理由 （５４文字以内）","欠席","遅刻","早退","理由 （５４文字以内）","欠席","遅刻","早退","理由 （５４文字以内）"]
[{"$f":"IF('生徒基本 '!A3=\"\",\"\",'生徒基本 '!A3)","v":1},{"$f":"IF('生徒基本 '!B3=\"\",\"\",'生徒基本 '!B3)","v":""}]
[{"$f":"IF('生徒基本 '!A4=\"\",\"\",'生徒基本 '!A4)","v":2},{"$f":"IF('生徒基本 '!B4=\"\",\"\",'生徒基本 '!B4)","v":""}]
[{"$f":"IF('生徒基本 '!A5=\"\",\"\",'生徒基本 '!A5)","v":3},{"$f":"IF('生徒基本 '!B5=\"\",\"\",'生徒基本 '!B5)","v":""}]
[{"$f":"IF('生徒基本 '!A6=\"\",\"\",'生徒基本 '!A6)","v":4},{"$f":"IF('生徒基本 '!B6=\"\",\"\",'生徒基本 '!B6)","v":""}]
[{"$f":"IF('生徒基本 '!A7=\"\",\"\",'生徒基本 '!A7)","v":5},{"$f":"IF('生徒基本 '!B7=\"\",\"\",'生徒基本 '!B7)","v":""}]
[{"$f":"IF('生徒基本 '!A8=\"\",\"\",'生徒基本 '!A8)","v":6},{"$f":"IF('生徒基本 '!B8=\"\",\"\",'生徒基本 '!B8)","v":""}]
[{"$f":"IF('生徒基本 '!A9=\"\",\"\",'生徒基本 '!A9)","v":7},{"$f":"IF('生徒基本 '!B9=\"\",\"\",'生徒基本 '!B9)","v":""}]
[{"$f":"IF('生徒基本 '!A10=\"\",\"\",'生徒基本 '!A10)","v":8},{"$f":"IF('生徒基本 '!B10=\"\",\"\",'生徒基本 '!B10)","v":""}]
[{"$f":"IF('生徒基本 '!A11=\"\",\"\",'生徒基本 '!A11)","v":9},{"$f":"IF('生徒基本 '!B11=\"\",\"\",'生徒基本 '!B11)","v":""}]
[{"$f":"IF('生徒基本 '!A12=\"\",\"\",'生徒基本 '!A12)","v":10},{"$f":"IF('生徒基本 '!B12=\"\",\"\",'生徒基本 '!B12)","v":""}]
[{"$f":"IF('生徒基本 '!A13=\"\",\"\",'生徒基本 '!A13)","v":11},{"$f":"IF('生徒基本 '!B13=\"\",\"\",'生徒基本 '!B13)","v":""}]
[{"$f":"IF('生徒基本 '!A14=\"\",\"\",'生徒基本 '!A14)","v":12},{"$f":"IF('生徒基本 '!B14=\"\",\"\",'生徒基本 '!B14)","v":""}]
[{"$f":"IF('生徒基本 '!A15=\"\",\"\",'生徒基本 '!A15)","v":13},{"$f":"IF('生徒基本 '!B15=\"\",\"\",'生徒基本 '!B15)","v":""}]
[{"$f":"IF('生徒基本 '!A16=\"\",\"\",'生徒基本 '!A16)","v":14},{"$f":"IF('生徒基本 '!B16=\"\",\"\",'生徒基本 '!B16)","v":""}]
[{"$f":"IF('生徒基本 '!A17=\"\",\"\",'生徒基本 '!A17)","v":15},{"$f":"IF('生徒基本 '!B17=\"\",\"\",'生徒基本 '!B17)","v":""}]
[{"$f":"IF('生徒基本 '!A18=\"\",\"\",'生徒基本 '!A18)","v":16},{"$f":"IF('生徒基本 '!B18=\"\",\"\",'生徒基本 '!B18)","v":""}]
[{"$f":"IF('生徒基本 '!A19=\"\",\"\",'生徒基本 '!A19)","v":17},{"$f":"IF('生徒基本 '!B19=\"\",\"\",'生徒基本 '!B19)","v":""}]
[{"$f":"IF('生徒基本 '!A20=\"\",\"\",'生徒基本 '!A20)","v":18},{"$f":"IF('生徒基本 '!B20=\"\",\"\",'生徒基本 '!B20)","v":""}]
[{"$f":"IF('生徒基本 '!A21=\"\",\"\",'生徒基本 '!A21)","v":19},{"$f":"IF('生徒基本 '!B21=\"\",\"\",'生徒基本 '!B21)","v":""}]
[{"$f":"IF('生徒基本 '!A22=\"\",\"\",'生徒基本 '!A22)","v":20},{"$f":"IF('生徒基本 '!B22=\"\",\"\",'生徒基本 '!B22)","v":""}]
[{"$f":"IF('生徒基本 '!A23=\"\",\"\",'生徒基本 '!A23)","v":21},{"$f":"IF('生徒基本 '!B23=\"\",\"\",'生徒基本 '!B23)","v":""}]
[{"$f":"IF('生徒基本 '!A24=\"\",\"\",'生徒基本 '!A24)","v":22},{"$f":"IF('生徒基本 '!B24=\"\",\"\",'生徒基本 '!B24)","v":""}]
[{"$f":"IF('生徒基本 '!A25=\"\",\"\",'生徒基本 '!A25)","v":23},{"$f":"IF('生徒基本 '!B25=\"\",\"\",'生徒基本 '!B25)","v":""}]
[{"$f":"IF('生徒基本 '!A26=\"\",\"\",'生徒基本 '!A26)","v":24},{"$f":"IF('生徒基本 '!B26=\"\",\"\",'生徒基本 '!B26)","v":""}]
[{"$f":"IF('生徒基本 '!A27=\"\",\"\",'生徒基本 '!A27)","v":25},{"$f":"IF('生徒基本 '!B27=\"\",\"\",'生徒基本 '!B27)","v":""}]
[{"$f":"IF('生徒基本 '!A28=\"\",\"\",'生徒基本 '!A28)","v":26},{"$f":"IF('生徒基本 '!B28=\"\",\"\",'生徒基本 '!B28)","v":""}]
[{"$f":"IF('生徒基本 '!A29=\"\",\"\",'生徒基本 '!A29)","v":27},{"$f":"IF('生徒基本 '!B29=\"\",\"\",'生徒基本 '!B29)","v":""}]
[{"$f":"IF('生徒基本 '!A30=\"\",\"\",'生徒基本 '!A30)","v":28},{"$f":"IF('生徒基本 '!B30=\"\",\"\",'生徒基本 '!B30)","v":""}]
[{"$f":"IF('生徒基本 '!A31=\"\",\"\",'生徒基本 '!A31)","v":29},{"$f":"IF('生徒基本 '!B31=\"\",\"\",'生徒基本 '!B31)","v":""}]
[{"$f":"IF('生徒基本 '!A32=\"\",\"\",'生徒基本 '!A32)","v":30},{"$f":"IF('生徒基本 '!B32=\"\",\"\",'生徒基本 '!B32)","v":""}]
[{"$f":"IF('生徒基本 '!A33=\"\",\"\",'生徒基本 '!A33)","v":31},{"$f":"IF('生徒基本 '!B33=\"\",\"\",'生徒基本 '!B33)","v":""}]
[{"$f":"IF('生徒基本 '!A34=\"\",\"\",'生徒基本 '!A34)","v":32},{"$f":"IF('生徒基本 '!B34=\"\",\"\",'生徒基本 '!B34)","v":""}]
[{"$f":"IF('生徒基本 '!A35=\"\",\"\",'生徒基本 '!A35)","v":33},{"$f":"IF('生徒基本 '!B35=\"\",\"\",'生徒基本 '!B35)","v":""}]
[{"$f":"IF('生徒基本 '!A36=\"\",\"\",'生徒基本 '!A36)","v":34},{"$f":"IF('生徒基本 '!B36=\"\",\"\",'生徒基本 '!B36)","v":""}]
[{"$f":"IF('生徒基本 '!A37=\"\",\"\",'生徒基本 '!A37)","v":35},{"$f":"IF('生徒基本 '!B37=\"\",\"\",'生徒基本 '!B37)","v":""}]
[{"$f":"IF('生徒基本 '!A38=\"\",\"\",'生徒基本 '!A38)","v":36},{"$f":"IF('生徒基本 '!B38=\"\",\"\",'生徒基本 '!B38)","v":""}]
[{"$f":"IF('生徒基本 '!A39=\"\",\"\",'生徒基本 '!A39)","v":37},{"$f":"IF('生徒基本 '!B39=\"\",\"\",'生徒基本 '!B39)","v":""}]
[{"$f":"IF('生徒基本 '!A40=\"\",\"\",'生徒基本 '!A40)","v":38},{"$f":"IF('生徒基本 '!B40=\"\",\"\",'生徒基本 '!B40)","v":""}]
[{"$f":"IF('生徒基本 '!A41=\"\",\"\",'生徒基本 '!A41)","v":39},{"$f":"IF('生徒基本 '!B41=\"\",\"\",'生徒基本 '!B41)","v":""}]
[{"$f":"IF('生徒基本 '!A42=\"\",\"\",'生徒基本 '!A42)","v":40},{"$f":"IF('生徒基本 '!B42=\"\",\"\",'生徒基本 '!B42)","v":""}]

{"sheet":"身体状況","index":5,"n_rows":42,"n_cols":12,"rows_kept":42,"cut":false,"hidden":false,"merged":[[0,8,0,10],[0,11,1,11],[0,0,1,0],[0,1,1,1],[0,2,0,4],[0,5,0,7]]}
["№","氏名","一年",null,null,"二年",null,null,"三年",null,null,"身体状況 ( 約８０字記入可能 ）"]
[null,null,"欠","遅","早","欠","遅","早","欠","遅","早"]
[{"$f":"IF('生徒基本 '!A3=\"\",\"\",'生徒基本 '!A3)","v":1},{"$f":"IF('生徒基本 '!B3=\"\",\"\",'生徒基本 '!B3)","v":""},{"$f":"IF(出席状況!C3=\"\",\"\",出席状況!C3)","v":""},{"$f":"IF(出席状況!D3=\"\",\"\",出席状況!D3)","v":""},{"$f":"IF(出席状況!E3=\"\",\"\",出席状況!E3)","v":""},{"$f":"IF(出席状況!G3=\"\",\"\",出席状況!G3)","v":""},{"$f":"IF(出席状況!H3=\"\",\"\",出席状況!H3)","v":""},{"$f":"IF(出席状況!I3=\"\",\"\",出席状況!I3)","v":""},{"$f":"IF(出席状況!K3=\"\",\"\",出席状況!K3)","v":""},{"$f":"IF(出席状況!L3=\"\",\"\",出席状況!L3)","v":""},{"$f":"IF(出席状況!M3=\"\",\"\",出席状況!M3)","v":""}]
[{"$f":"IF('生徒基本 '!A4=\"\",\"\",'生徒基本 '!A4)","v":2},{"$f":"IF('生徒基本 '!B4=\"\",\"\",'生徒基本 '!B4)","v":""},{"$f":"IF(出席状況!C4=\"\",\"\",出席状況!C4)","v":""},{"$f":"IF(出席状況!D4=\"\",\"\",出席状況!D4)","v":""},{"$f":"IF(出席状況!E4=\"\",\"\",出席状況!E4)","v":""},{"$f":"IF(出席状況!G4=\"\",\"\",出席状況!G4)","v":""},{"$f":"IF(出席状況!H4=\"\",\"\",出席状況!H4)","v":""},{"$f":"IF(出席状況!I4=\"\",\"\",出席状況!I4)","v":""},{"$f":"IF(出席状況!K4=\"\",\"\",出席状況!K4)","v":""},{"$f":"IF(出席状況!L4=\"\",\"\",出席状況!L4)","v":""},{"$f":"IF(出席状況!M4=\"\",\"\",出席状況!M4)","v":""}]
[{"$f":"IF('生徒基本 '!A5=\"\",\"\",'生徒基本 '!A5)","v":3},{"$f":"IF('生徒基本 '!B5=\"\",\"\",'生徒基本 '!B5)","v":""},{"$f":"IF(出席状況!C5=\"\",\"\",出席状況!C5)","v":""},{"$f":"IF(出席状況!D5=\"\",\"\",出席状況!D5)","v":""},{"$f":"IF(出席状況!E5=\"\",\"\",出席状況!E5)","v":""},{"$f":"IF(出席状況!G5=\"\",\"\",出席状況!G5)","v":""},{"$f":"IF(出席状況!H5=\"\",\"\",出席状況!H5)","v":""},{"$f":"IF(出席状況!I5=\"\",\"\",出席状況!I5)","v":""},{"$f":"IF(出席状況!K5=\"\",\"\",出席状況!K5)","v":""},{"$f":"IF(出席状況!L5=\"\",\"\",出席状況!L5)","v":""},{"$f":"IF(出席状況!M5=\"\",\"\",出席状況!M5)","v":""}]
[{"$f":"IF('生徒基本 '!A6=\"\",\"\",'生徒基本 '!A6)","v":4},{"$f":"IF('生徒基本 '!B6=\"\",\"\",'生徒基本 '!B6)","v":""},{"$f":"IF(出席状況!C6=\"\",\"\",出席状況!C6)","v":""},{"$f":"IF(出席状況!D6=\"\",\"\",出席状況!D6)","v":""},{"$f":"IF(出席状況!E6=\"\",\"\",出席状況!E6)","v":""},{"$f":"IF(出席状況!G6=\"\",\"\",出席状況!G6)","v":""},{"$f":"IF(出席状況!H6=\"\",\"\",出席状況!H6)","v":""},{"$f":"IF(出席状況!I6=\"\",\"\",出席状況!I6)","v":""},{"$f":"IF(出席状況!K6=\"\",\"\",出席状況!K6)","v":""},{"$f":"IF(出席状況!L6=\"\",\"\",出席状況!L6)","v":""},{"$f":"IF(出席状況!M6=\"\",\"\",出席状況!M6)","v":""}]
[{"$f":"IF('生徒基本 '!A7=\"\",\"\",'生徒基本 '!A7)","v":5},{"$f":"IF('生徒基本 '!B7=\"\",\"\",'生徒基本 '!B7)","v":""},{"$f":"IF(出席状況!C7=\"\",\"\",出席状況!C7)","v":""},{"$f":"IF(出席状況!D7=\"\",\"\",出席状況!D7)","v":""},{"$f":"IF(出席状況!E7=\"\",\"\",出席状況!E7)","v":""},{"$f":"IF(出席状況!G7=\"\",\"\",出席状況!G7)","v":""},{"$f":"IF(出席状況!H7=\"\",\"\",出席状況!H7)","v":""},{"$f":"IF(出席状況!I7=\"\",\"\",出席状況!I7)","v":""},{"$f":"IF(出席状況!K7=\"\",\"\",出席状況!K7)","v":""},{"$f":"IF(出席状況!L7=\"\",\"\",出席状況!L7)","v":""},{"$f":"IF(出席状況!M7=\"\",\"\",出席状況!M7)","v":""}]
[{"$f":"IF('生徒基本 '!A8=\"\",\"\",'生徒基本 '!A8)","v":6},{"$f":"IF('生徒基本 '!B8=\"\",\"\",'生徒基本 '!B8)","v":""},{"$f":"IF(出席状況!C8=\"\",\"\",出席状況!C8)","v":""},{"$f":"IF(出席状況!D8=\"\",\"\",出席状況!D8)","v":""},{"$f":"IF(出席状況!E8=\"\",\"\",出席状況!E8)","v":""},{"$f":"IF(出席状況!G8=\"\",\"\",出席状況!G8)","v":""},{"$f":"IF(出席状況!H8=\"\",\"\",出席状況!H8)","v":""},{"$f":"IF(出席状況!I8=\"\",\"\",出席状況!I8)","v":""},{"$f":"IF(出席状況!K8=\"\",\"\",出席状況!K8)","v":""},{"$f":"IF(出席状況!L8=\"\",\"\",出席状況!L8)","v":""},{"$f":"IF(出席状況!M8=\"\",\"\",出席状況!M8)","v":""}]
[{"$f":"IF('生徒基本 '!A9=\"\",\"\",'生徒基本 '!A9)","v":7},{"$f":"IF('生徒基本 '!B9=\"\",\"\",'生徒基本 '!B9)","v":""},{"$f":"IF(出席状況!C9=\"\",\"\",出席状況!C9)","v":""},{"$f":"IF(出席状況!D9=\"\",\"\",出席状況!D9)","v":""},{"$f":"IF(出席状況!E9=\"\",\"\",出席状況!E9)","v":""},{"$f":"IF(出席状況!G9=\"\",\"\",出席状況!G9)","v":""},{"$f":"IF(出席状況!H9=\"\",\"\",出席状況!H9)","v":""},{"$f":"IF(出席状況!I9=\"\",\"\",出席状況!I9)","v":""},{"$f":"IF(出席状況!K9=\"\",\"\",出席状況!K9)","v":""},{"$f":"IF(出席状況!L9=\"\",\"\",出席状況!L9)","v":""},{"$f":"IF(出席状況!M9=\"\",\"\",出席状況!M9)","v":""}]
[{"$f":"IF('生徒基本 '!A10=\"\",\"\",'生徒基本 '!A10)","v":8},{"$f":"IF('生徒基本 '!B10=\"\",\"\",'生徒基本 '!B10)","v":""},{"$f":"IF(出席状況!C10=\"\",\"\",出席状況!C10)","v":""},{"$f":"IF(出席状況!D10=\"\",\"\",出席状況!D10)","v":""},{"$f":"IF(出席状況!E10=\"\",\"\",出席状況!E10)","v":""},{"$f":"IF(出席状況!G10=\"\",\"\",出席状況!G10)","v":""},{"$f":"IF(出席状況!H10=\"\",\"\",出席状況!H10)","v":""},{"$f":"IF(出席状況!I10=\"\",\"\",出席状況!I10)","v":""},{"$f":"IF(出席状況!K10=\"\",\"\",出席状況!K10)","v":""},{"$f":"IF(出席状況!L10=\"\",\"\",出席状況!L10)","v":""},{"$f":"IF(出席状況!M10=\"\",\"\",出席状況!M10)","v":""}]
[{"$f":"IF('生徒基本 '!A11=\"\",\"\",'生徒基本 '!A11)","v":9},{"$f":"IF('生徒基本 '!B11=\"\",\"\",'生徒基本 '!B11)","v":""},{"$f":"IF(出席状況!C11=\"\",\"\",出席状況!C11)","v":""},{"$f":"IF(出席状況!D11=\"\",\"\",出席状況!D11)","v":""},{"$f":"IF(出席状況!E11=\"\",\"\",出席状況!E11)","v":""},{"$f":"IF(出席状況!G11=\"\",\"\",出席状況!G11)","v":""},{"$f":"IF(出席状況!H11=\"\",\"\",出席状況!H11)","v":""},{"$f":"IF(出席状況!I11=\"\",\"\",出席状況!I11)","v":""},{"$f":"IF(出席状況!K11=\"\",\"\",出席状況!K11)","v":""},{"$f":"IF(出席状況!L11=\"\",\"\",出席状況!L11)","v":""},{"$f":"IF(出席状況!M11=\"\",\"\",出席状況!M11)","v":""}]
[{"$f":"IF('生徒基本 '!A12=\"\",\"\",'生徒基本 '!A12)","v":10},{"$f":"IF('生徒基本 '!B12=\"\",\"\",'生徒基本 '!B12)","v":""},{"$f":"IF(出席状況!C12=\"\",\"\",出席状況!C12)","v":""},{"$f":"IF(出席状況!D12=\"\",\"\",出席状況!D12)","v":""},{"$f":"IF(出席状況!E12=\"\",\"\",出席状況!E12)","v":""},{"$f":"IF(出席状況!G12=\"\",\"\",出席状況!G12)","v":""},{"$f":"IF(出席状況!H12=\"\",\"\",出席状況!H12)","v":""},{"$f":"IF(出席状況!I12=\"\",\"\",出席状況!I12)","v":""},{"$f":"IF(出席状況!K12=\"\",\"\",出席状況!K12)","v":""},{"$f":"IF(出席状況!L12=\"\",\"\",出席状況!L12)","v":""},{"$f":"IF(出席状況!M12=\"\",\"\",出席状況!M12)","v":""}]
[{"$f":"IF('生徒基本 '!A13=\"\",\"\",'生徒基本 '!A13)","v":11},{"$f":"IF('生徒基本 '!B13=\"\",\"\",'生徒基本 '!B13)","v":""},{"$f":"IF(出席状況!C13=\"\",\"\",出席状況!C13)","v":""},{"$f":"IF(出席状況!D13=\"\",\"\",出席状況!D13)","v":""},{"$f":"IF(出席状況!E13=\"\",\"\",出席状況!E13)","v":""},{"$f":"IF(出席状況!G13=\"\",\"\",出席状況!G13)","v":""},{"$f":"IF(出席状況!H13=\"\",\"\",出席状況!H13)","v":""},{"$f":"IF(出席状況!I13=\"\",\"\",出席状況!I13)","v":""},{"$f":"IF(出席状況!K13=\"\",\"\",出席状況!K13)","v":""},{"$f":"IF(出席状況!L13=\"\",\"\",出席状況!L13)","v":""},{"$f":"IF(出席状況!M13=\"\",\"\",出席状況!M13)","v":""}]
[{"$f":"IF('生徒基本 '!A14=\"\",\"\",'生徒基本 '!A14)","v":12},{"$f":"IF('生徒基本 '!B14=\"\",\"\",'生徒基本 '!B14)","v":""},{"$f":"IF(出席状況!C14=\"\",\"\",出席状況!C14)","v":""},{"$f":"IF(出席状況!D14=\"\",\"\",出席状況!D14)","v":""},{"$f":"IF(出席状況!E14=\"\",\"\",出席状況!E14)","v":""},{"$f":"IF(出席状況!G14=\"\",\"\",出席状況!G14)","v":""},{"$f":"IF(出席状況!H14=\"\",\"\",出席状況!H14)","v":""},{"$f":"IF(出席状況!I14=\"\",\"\",出席状況!I14)","v":""},{"$f":"IF(出席状況!K14=\"\",\"\",出席状況!K14)","v":""},{"$f":"IF(出席状況!L14=\"\",\"\",出席状況!L14)","v":""},{"$f":"IF(出席状況!M14=\"\",\"\",出席状況!M14)","v":""}]
[{"$f":"IF('生徒基本 '!A15=\"\",\"\",'生徒基本 '!A15)","v":13},{"$f":"IF('生徒基本 '!B15=\"\",\"\",'生徒基本 '!B15)","v":""},{"$f":"IF(出席状況!C15=\"\",\"\",出席状況!C15)","v":""},{"$f":"IF(出席状況!D15=\"\",\"\",出席状況!D15)","v":""},{"$f":"IF(出席状況!E15=\"\",\"\",出席状況!E15)","v":""},{"$f":"IF(出席状況!G15=\"\",\"\",出席状況!G15)","v":""},{"$f":"IF(出席状況!H15=\"\",\"\",出席状況!H15)","v":""},{"$f":"IF(出席状況!I15=\"\",\"\",出席状況!I15)","v":""},{"$f":"IF(出席状況!K15=\"\",\"\",出席状況!K15)","v":""},{"$f":"IF(出席状況!L15=\"\",\"\",出席状況!L15)","v":""},{"$f":"IF(出席状況!M15=\"\",\"\",出席状況!M15)","v":""}]
[{"$f":"IF('生徒基本 '!A16=\"\",\"\",'生徒基本 '!A16)","v":14},{"$f":"IF('生徒基本 '!B16=\"\",\"\",'生徒基本 '!B16)","v":""},{"$f":"IF(出席状況!C16=\"\",\"\",出席状況!C16)","v":""},{"$f":"IF(出席状況!D16=\"\",\"\",出席状況!D16)","v":""},{"$f":"IF(出席状況!E16=\"\",\"\",出席状況!E16)","v":""},{"$f":"IF(出席状況!G16=\"\",\"\",出席状況!G16)","v":""},{"$f":"IF(出席状況!H16=\"\",\"\",出席状況!H16)","v":""},{"$f":"IF(出席状況!I16=\"\",\"\",出席状況!I16)","v":""},{"$f":"IF(出席状況!K16=\"\",\"\",出席状況!K16)","v":""},{"$f":"IF(出席状況!L16=\"\",\"\",出席状況!L16)","v":""},{"$f":"IF(出席状況!M16=\"\",\"\",出席状況!M16)","v":""}]
[{"$f":"IF('生徒基本 '!A17=\"\",\"\",'生徒基本 '!A17)","v":15},{"$f":"IF('生徒基本 '!B17=\"\",\"\",'生徒基本 '!B17)","v":""},{"$f":"IF(出席状況!C17=\"\",\"\",出席状況!C17)","v":""},{"$f":"IF(出席状況!D17=\"\",\"\",出席状況!D17)","v":""},{"$f":"IF(出席状況!E17=\"\",\"\",出席状況!E17)","v":""},{"$f":"IF(出席状況!G17=\"\",\"\",出席状況!G17)","v":""},{"$f":"IF(出席状況!H17=\"\",\"\",出席状況!H17)","v":""},{"$f":"IF(出席状況!I17=\"\",\"\",出席状況!I17)","v":""},{"$f":"IF(出席状況!K17=\"\",\"\",出席状況!K17)","v":""},{"$f":"IF(出席状況!L17=\"\",\"\",出席状況!L17)","v":""},{"$f":"IF(出席状況!M17=\"\",\"\",出席状況!M17)","v":""}]
[{"$f":"IF('生徒基本 '!A18=\"\",\"\",'生徒基本 '!A18)","v":16},{"$f":"IF('生徒基本 '!B18=\"\",\"\",'生徒基本 '!B18)","v":""},{"$f":"IF(出席状況!C18=\"\",\"\",出席状況!C18)","v":""},{"$f":"IF(出席状況!D18=\"\",\"\",出席状況!D18)","v":""},{"$f":"IF(出席状況!E18=\"\",\"\",出席状況!E18)","v":""},{"$f":"IF(出席状況!G18=\"\",\"\",出席状況!G18)","v":""},{"$f":"IF(出席状況!H18=\"\",\"\",出席状況!H18)","v":""},{"$f":"IF(出席状況!I18=\"\",\"\",出席状況!I18)","v":""},{"$f":"IF(出席状況!K18=\"\",\"\",出席状況!K18)","v":""},{"$f":"IF(出席状況!L18=\"\",\"\",出席状況!L18)","v":""},{"$f":"IF(出席状況!M18=\"\",\"\",出席状況!M18)","v":""}]
[{"$f":"IF('生徒基本 '!A19=\"\",\"\",'生徒基本 '!A19)","v":17},{"$f":"IF('生徒基本 '!B19=\"\",\"\",'生徒基本 '!B19)","v":""},{"$f":"IF(出席状況!C19=\"\",\"\",出席状況!C19)","v":""},{"$f":"IF(出席状況!D19=\"\",\"\",出席状況!D19)","v":""},{"$f":"IF(出席状況!E19=\"\",\"\",出席状況!E19)","v":""},{"$f":"IF(出席状況!G19=\"\",\"\",出席状況!G19)","v":""},{"$f":"IF(出席状況!H19=\"\",\"\",出席状況!H19)","v":""},{"$f":"IF(出席状況!I19=\"\",\"\",出席状況!I19)","v":""},{"$f":"IF(出席状況!K19=\"\",\"\",出席状況!K19)","v":""},{"$f":"IF(出席状況!L19=\"\",\"\",出席状況!L19)","v":""},{"$f":"IF(出席状況!M19=\"\",\"\",出席状況!M19)","v":""}]
[{"$f":"IF('生徒基本 '!A20=\"\",\"\",'生徒基本 '!A20)","v":18},{"$f":"IF('生徒基本 '!B20=\"\",\"\",'生徒基本 '!B20)","v":""},{"$f":"IF(出席状況!C20=\"\",\"\",出席状況!C20)","v":""},{"$f":"IF(出席状況!D20=\"\",\"\",出席状況!D20)","v":""},{"$f":"IF(出席状況!E20=\"\",\"\",出席状況!E20)","v":""},{"$f":"IF(出席状況!G20=\"\",\"\",出席状況!G20)","v":""},{"$f":"IF(出席状況!H20=\"\",\"\",出席状況!H20)","v":""},{"$f":"IF(出席状況!I20=\"\",\"\",出席状況!I20)","v":""},{"$f":"IF(出席状況!K20=\"\",\"\",出席状況!K20)","v":""},{"$f":"IF(出席状況!L20=\"\",\"\",出席状況!L20)","v":""},{"$f":"IF(出席状況!M20=\"\",\"\",出席状況!M20)","v":""}]
[{"$f":"IF('生徒基本 '!A21=\"\",\"\",'生徒基本 '!A21)","v":19},{"$f":"IF('生徒基本 '!B21=\"\",\"\",'生徒基本 '!B21)","v":""},{"$f":"IF(出席状況!C21=\"\",\"\",出席状況!C21)","v":""},{"$f":"IF(出席状況!D21=\"\",\"\",出席状況!D21)","v":""},{"$f":"IF(出席状況!E21=\"\",\"\",出席状況!E21)","v":""},{"$f":"IF(出席状況!G21=\"\",\"\",出席状況!G21)","v":""},{"$f":"IF(出席状況!H21=\"\",\"\",出席状況!H21)","v":""},{"$f":"IF(出席状況!I21=\"\",\"\",出席状況!I21)","v":""},{"$f":"IF(出席状況!K21=\"\",\"\",出席状況!K21)","v":""},{"$f":"IF(出席状況!L21=\"\",\"\",出席状況!L21)","v":""},{"$f":"IF(出席状況!M21=\"\",\"\",出席状況!M21)","v":""}]
[{"$f":"IF('生徒基本 '!A22=\"\",\"\",'生徒基本 '!A22)","v":20},{"$f":"IF('生徒基本 '!B22=\"\",\"\",'生徒基本 '!B22)","v":""},{"$f":"IF(出席状況!C22=\"\",\"\",出席状況!C22)","v":""},{"$f":"IF(出席状況!D22=\"\",\"\",出席状況!D22)","v":""},{"$f":"IF(出席状況!E22=\"\",\"\",出席状況!E22)","v":""},{"$f":"IF(出席状況!G22=\"\",\"\",出席状況!G22)","v":""},{"$f":"IF(出席状況!H22=\"\",\"\",出席状況!H22)","v":""},{"$f":"IF(出席状況!I22=\"\",\"\",出席状況!I22)","v":""},{"$f":"IF(出席状況!K22=\"\",\"\",出席状況!K22)","v":""},{"$f":"IF(出席状況!L22=\"\",\"\",出席状況!L22)","v":""},{"$f":"IF(出席状況!M22=\"\",\"\",出席状況!M22)","v":""}]
[{"$f":"IF('生徒基本 '!A23=\"\",\"\",'生徒基本 '!A23)","v":21},{"$f":"IF('生徒基本 '!B23=\"\",\"\",'生徒基本 '!B23)","v":""},{"$f":"IF(出席状況!C23=\"\",\"\",出席状況!C23)","v":""},{"$f":"IF(出席状況!D23=\"\",\"\",出席状況!D23)","v":""},{"$f":"IF(出席状況!E23=\"\",\"\",出席状況!E23)","v":""},{"$f":"IF(出席状況!G23=\"\",\"\",出席状況!G23)","v":""},{"$f":"IF(出席状況!H23=\"\",\"\",出席状況!H23)","v":""},{"$f":"IF(出席状況!I23=\"\",\"\",出席状況!I23)","v":""},{"$f":"IF(出席状況!K23=\"\",\"\",出席状況!K23)","v":""},{"$f":"IF(出席状況!L23=\"\",\"\",出席状況!L23)","v":""},{"$f":"IF(出席状況!M23=\"\",\"\",出席状況!M23)","v":""}]
[{"$f":"IF('生徒基本 '!A24=\"\",\"\",'生徒基本 '!A24)","v":22},{"$f":"IF('生徒基本 '!B24=\"\",\"\",'生徒基本 '!B24)","v":""},{"$f":"IF(出席状況!C24=\"\",\"\",出席状況!C24)","v":""},{"$f":"IF(出席状況!D24=\"\",\"\",出席状況!D24)","v":""},{"$f":"IF(出席状況!E24=\"\",\"\",出席状況!E24)","v":""},{"$f":"IF(出席状況!G24=\"\",\"\",出席状況!G24)","v":""},{"$f":"IF(出席状況!H24=\"\",\"\",出席状況!H24)","v":""},{"$f":"IF(出席状況!I24=\"\",\"\",出席状況!I24)","v":""},{"$f":"IF(出席状況!K24=\"\",\"\",出席状況!K24)","v":""},{"$f":"IF(出席状況!L24=\"\",\"\",出席状況!L24)","v":""},{"$f":"IF(出席状況!M24=\"\",\"\",出席状況!M24)","v":""}]
[{"$f":"IF('生徒基本 '!A25=\"\",\"\",'生徒基本 '!A25)","v":23},{"$f":"IF('生徒基本 '!B25=\"\",\"\",'生徒基本 '!B25)","v":""},{"$f":"IF(出席状況!C25=\"\",\"\",出席状況!C25)","v":""},{"$f":"IF(出席状況!D25=\"\",\"\",出席状況!D25)","v":""},{"$f":"IF(出席状況!E25=\"\",\"\",出席状況!E25)","v":""},{"$f":"IF(出席状況!G25=\"\",\"\",出席状況!G25)","v":""},{"$f":"IF(出席状況!H25=\"\",\"\",出席状況!H25)","v":""},{"$f":"IF(出席状況!I25=\"\",\"\",出席状況!I25)","v":""},{"$f":"IF(出席状況!K25=\"\",\"\",出席状況!K25)","v":""},{"$f":"IF(出席状況!L25=\"\",\"\",出席状況!L25)","v":""},{"$f":"IF(出席状況!M25=\"\",\"\",出席状況!M25)","v":""}]
[{"$f":"IF('生徒基本 '!A26=\"\",\"\",'生徒基本 '!A26)","v":24},{"$f":"IF('生徒基本 '!B26=\"\",\"\",'生徒基本 '!B26)","v":""},{"$f":"IF(出席状況!C26=\"\",\"\",出席状況!C26)","v":""},{"$f":"IF(出席状況!D26=\"\",\"\",出席状況!D26)","v":""},{"$f":"IF(出席状況!E26=\"\",\"\",出席状況!E26)","v":""},{"$f":"IF(出席状況!G26=\"\",\"\",出席状況!G26)","v":""},{"$f":"IF(出席状況!H26=\"\",\"\",出席状況!H26)","v":""},{"$f":"IF(出席状況!I26=\"\",\"\",出席状況!I26)","v":""},{"$f":"IF(出席状況!K26=\"\",\"\",出席状況!K26)","v":""},{"$f":"IF(出席状況!L26=\"\",\"\",出席状況!L26)","v":""},{"$f":"IF(出席状況!M26=\"\",\"\",出席状況!M26)","v":""}]
[{"$f":"IF('生徒基本 '!A27=\"\",\"\",'生徒基本 '!A27)","v":25},{"$f":"IF('生徒基本 '!B27=\"\",\"\",'生徒基本 '!B27)","v":""},{"$f":"IF(出席状況!C27=\"\",\"\",出席状況!C27)","v":""},{"$f":"IF(出席状況!D27=\"\",\"\",出席状況!D27)","v":""},{"$f":"IF(出席状況!E27=\"\",\"\",出席状況!E27)","v":""},{"$f":"IF(出席状況!G27=\"\",\"\",出席状況!G27)","v":""},{"$f":"IF(出席状況!H27=\"\",\"\",出席状況!H27)","v":""},{"$f":"IF(出席状況!I27=\"\",\"\",出席状況!I27)","v":""},{"$f":"IF(出席状況!K27=\"\",\"\",出席状況!K27)","v":""},{"$f":"IF(出席状況!L27=\"\",\"\",出席状況!L27)","v":""},{"$f":"IF(出席状況!M27=\"\",\"\",出席状況!M27)","v":""}]
[{"$f":"IF('生徒基本 '!A28=\"\",\"\",'生徒基本 '!A28)","v":26},{"$f":"IF('生徒基本 '!B28=\"\",\"\",'生徒基本 '!B28)","v":""},{"$f":"IF(出席状況!C28=\"\",\"\",出席状況!C28)","v":""},{"$f":"IF(出席状況!D28=\"\",\"\",出席状況!D28)","v":""},{"$f":"IF(出席状況!E28=\"\",\"\",出席状況!E28)","v":""},{"$f":"IF(出席状況!G28=\"\",\"\",出席状況!G28)","v":""},{"$f":"IF(出席状況!H28=\"\",\"\",出席状況!H28)","v":""},{"$f":"IF(出席状況!I28=\"\",\"\",出席状況!I28)","v":""},{"$f":"IF(出席状況!K28=\"\",\"\",出席状況!K28)","v":""},{"$f":"IF(出席状況!L28=\"\",\"\",出席状況!L28)","v":""},{"$f":"IF(出席状況!M28=\"\",\"\",出席状況!M28)","v":""}]
[{"$f":"IF('生徒基本 '!A29=\"\",\"\",'生徒基本 '!A29)","v":27},{"$f":"IF('生徒基本 '!B29=\"\",\"\",'生徒基本 '!B29)","v":""},{"$f":"IF(出席状況!C29=\"\",\"\",出席状況!C29)","v":""},{"$f":"IF(出席状況!D29=\"\",\"\",出席状況!D29)","v":""},{"$f":"IF(出席状況!E29=\"\",\"\",出席状況!E29)","v":""},{"$f":"IF(出席状況!G29=\"\",\"\",出席状況!G29)","v":""},{"$f":"IF(出席状況!H29=\"\",\"\",出席状況!H29)","v":""},{"$f":"IF(出席状況!I29=\"\",\"\",出席状況!I29)","v":""},{"$f":"IF(出席状況!K29=\"\",\"\",出席状況!K29)","v":""},{"$f":"IF(出席状況!L29=\"\",\"\",出席状況!L29)","v":""},{"$f":"IF(出席状況!M29=\"\",\"\",出席状況!M29)","v":""}]
[{"$f":"IF('生徒基本 '!A30=\"\",\"\",'生徒基本 '!A30)","v":28},{"$f":"IF('生徒基本 '!B30=\"\",\"\",'生徒基本 '!B30)","v":""},{"$f":"IF(出席状況!C30=\"\",\"\",出席状況!C30)","v":""},{"$f":"IF(出席状況!D30=\"\",\"\",出席状況!D30)","v":""},{"$f":"IF(出席状況!E30=\"\",\"\",出席状況!E30)","v":""},{"$f":"IF(出席状況!G30=\"\",\"\",出席状況!G30)","v":""},{"$f":"IF(出席状況!H30=\"\",\"\",出席状況!H30)","v":""},{"$f":"IF(出席状況!I30=\"\",\"\",出席状況!I30)","v":""},{"$f":"IF(出席状況!K30=\"\",\"\",出席状況!K30)","v":""},{"$f":"IF(出席状況!L30=\"\",\"\",出席状況!L30)","v":""},{"$f":"IF(出席状況!M30=\"\",\"\",出席状況!M30)","v":""}]
[{"$f":"IF('生徒基本 '!A31=\"\",\"\",'生徒基本 '!A31)","v":29},{"$f":"IF('生徒基本 '!B31=\"\",\"\",'生徒基本 '!B31)","v":""},{"$f":"IF(出席状況!C31=\"\",\"\",出席状況!C31)","v":""},{"$f":"IF(出席状況!D31=\"\",\"\",出席状況!D31)","v":""},{"$f":"IF(出席状況!E31=\"\",\"\",出席状況!E31)","v":""},{"$f":"IF(出席状況!G31=\"\",\"\",出席状況!G31)","v":""},{"$f":"IF(出席状況!H31=\"\",\"\",出席状況!H31)","v":""},{"$f":"IF(出席状況!I31=\"\",\"\",出席状況!I31)","v":""},{"$f":"IF(出席状況!K31=\"\",\"\",出席状況!K31)","v":""},{"$f":"IF(出席状況!L31=\"\",\"\",出席状況!L31)","v":""},{"$f":"IF(出席状況!M31=\"\",\"\",出席状況!M31)","v":""}]
[{"$f":"IF('生徒基本 '!A32=\"\",\"\",'生徒基本 '!A32)","v":30},{"$f":"IF('生徒基本 '!B32=\"\",\"\",'生徒基本 '!B32)","v":""},{"$f":"IF(出席状況!C32=\"\",\"\",出席状況!C32)","v":""},{"$f":"IF(出席状況!D32=\"\",\"\",出席状況!D32)","v":""},{"$f":"IF(出席状況!E32=\"\",\"\",出席状況!E32)","v":""},{"$f":"IF(出席状況!G32=\"\",\"\",出席状況!G32)","v":""},{"$f":"IF(出席状況!H32=\"\",\"\",出席状況!H32)","v":""},{"$f":"IF(出席状況!I32=\"\",\"\",出席状況!I32)","v":""},{"$f":"IF(出席状況!K32=\"\",\"\",出席状況!K32)","v":""},{"$f":"IF(出席状況!L32=\"\",\"\",出席状況!L32)","v":""},{"$f":"IF(出席状況!M32=\"\",\"\",出席状況!M32)","v":""}]
[{"$f":"IF('生徒基本 '!A33=\"\",\"\",'生徒基本 '!A33)","v":31},{"$f":"IF('生徒基本 '!B33=\"\",\"\",'生徒基本 '!B33)","v":""},{"$f":"IF(出席状況!C33=\"\",\"\",出席状況!C33)","v":""},{"$f":"IF(出席状況!D33=\"\",\"\",出席状況!D33)","v":""},{"$f":"IF(出席状況!E33=\"\",\"\",出席状況!E33)","v":""},{"$f":"IF(出席状況!G33=\"\",\"\",出席状況!G33)","v":""},{"$f":"IF(出席状況!H33=\"\",\"\",出席状況!H33)","v":""},{"$f":"IF(出席状況!I33=\"\",\"\",出席状況!I33)","v":""},{"$f":"IF(出席状況!K33=\"\",\"\",出席状況!K33)","v":""},{"$f":"IF(出席状況!L33=\"\",\"\",出席状況!L33)","v":""},{"$f":"IF(出席状況!M33=\"\",\"\",出席状況!M33)","v":""}]
[{"$f":"IF('生徒基本 '!A34=\"\",\"\",'生徒基本 '!A34)","v":32},{"$f":"IF('生徒基本 '!B34=\"\",\"\",'生徒基本 '!B34)","v":""},{"$f":"IF(出席状況!C34=\"\",\"\",出席状況!C34)","v":""},{"$f":"IF(出席状況!D34=\"\",\"\",出席状況!D34)","v":""},{"$f":"IF(出席状況!E34=\"\",\"\",出席状況!E34)","v":""},{"$f":"IF(出席状況!G34=\"\",\"\",出席状況!G34)","v":""},{"$f":"IF(出席状況!H34=\"\",\"\",出席状況!H34)","v":""},{"$f":"IF(出席状況!I34=\"\",\"\",出席状況!I34)","v":""},{"$f":"IF(出席状況!K34=\"\",\"\",出席状況!K34)","v":""},{"$f":"IF(出席状況!L34=\"\",\"\",出席状況!L34)","v":""},{"$f":"IF(出席状況!M34=\"\",\"\",出席状況!M34)","v":""}]
[{"$f":"IF('生徒基本 '!A35=\"\",\"\",'生徒基本 '!A35)","v":33},{"$f":"IF('生徒基本 '!B35=\"\",\"\",'生徒基本 '!B35)","v":""},{"$f":"IF(出席状況!C35=\"\",\"\",出席状況!C35)","v":""},{"$f":"IF(出席状況!D35=\"\",\"\",出席状況!D35)","v":""},{"$f":"IF(出席状況!E35=\"\",\"\",出席状況!E35)","v":""},{"$f":"IF(出席状況!G35=\"\",\"\",出席状況!G35)","v":""},{"$f":"IF(出席状況!H35=\"\",\"\",出席状況!H35)","v":""},{"$f":"IF(出席状況!I35=\"\",\"\",出席状況!I35)","v":""},{"$f":"IF(出席状況!K35=\"\",\"\",出席状況!K35)","v":""},{"$f":"IF(出席状況!L35=\"\",\"\",出席状況!L35)","v":""},{"$f":"IF(出席状況!M35=\"\",\"\",出席状況!M35)","v":""}]
[{"$f":"IF('生徒基本 '!A36=\"\",\"\",'生徒基本 '!A36)","v":34},{"$f":"IF('生徒基本 '!B36=\"\",\"\",'生徒基本 '!B36)","v":""},{"$f":"IF(出席状況!C36=\"\",\"\",出席状況!C36)","v":""},{"$f":"IF(出席状況!D36=\"\",\"\",出席状況!D36)","v":""},{"$f":"IF(出席状況!E36=\"\",\"\",出席状況!E36)","v":""},{"$f":"IF(出席状況!G36=\"\",\"\",出席状況!G36)","v":""},{"$f":"IF(出席状況!H36=\"\",\"\",出席状況!H36)","v":""},{"$f":"IF(出席状況!I36=\"\",\"\",出席状況!I36)","v":""},{"$f":"IF(出席状況!K36=\"\",\"\",出席状況!K36)","v":""},{"$f":"IF(出席状況!L36=\"\",\"\",出席状況!L36)","v":""},{"$f":"IF(出席状況!M36=\"\",\"\",出席状況!M36)","v":""}]
[{"$f":"IF('生徒基本 '!A37=\"\",\"\",'生徒基本 '!A37)","v":35},{"$f":"IF('生徒基本 '!B37=\"\",\"\",'生徒基本 '!B37)","v":""},{"$f":"IF(出席状況!C37=\"\",\"\",出席状況!C37)","v":""},{"$f":"IF(出席状況!D37=\"\",\"\",出席状況!D37)","v":""},{"$f":"IF(出席状況!E37=\"\",\"\",出席状況!E37)","v":""},{"$f":"IF(出席状況!G37=\"\",\"\",出席状況!G37)","v":""},{"$f":"IF(出席状況!H37=\"\",\"\",出席状況!H37)","v":""},{"$f":"IF(出席状況!I37=\"\",\"\",出席状況!I37)","v":""},{"$f":"IF(出席状況!K37=\"\",\"\",出席状況!K37)","v":""},{"$f":"IF(出席状況!L37=\"\",\"\",出席状況!L37)","v":""},{"$f":"IF(出席状況!M37=\"\",\"\",出席状況!M37)","v":""}]
[{"$f":"IF('生徒基本 '!A38=\"\",\"\",'生徒基本 '!A38)","v":36},{"$f":"IF('生徒基本 '!B38=\"\",\"\",'生徒基本 '!B38)","v":""},{"$f":"IF(出席状況!C38=\"\",\"\",出席状況!C38)","v":""},{"$f":"IF(出席状況!D38=\"\",\"\",出席状況!D38)","v":""},{"$f":"IF(出席状況!E38=\"\",\"\",出席状況!E38)","v":""},{"$f":"IF(出席状況!G38=\"\",\"\",出席状況!G38)","v":""},{"$f":"IF(出席状況!H38=\"\",\"\",出席状況!H38)","v":""},{"$f":"IF(出席状況!I38=\"\",\"\",出席状況!I38)","v":""},{"$f":"IF(出席状況!K38=\"\",\"\",出席状況!K38)","v":""},{"$f":"IF(出席状況!L38=\"\",\"\",出席状況!L38)","v":""},{"$f":"IF(出席状況!M38=\"\",\"\",出席状況!M38)","v":""}]
[{"$f":"IF('生徒基本 '!A39=\"\",\"\",'生徒基本 '!A39)","v":37},{"$f":"IF('生徒基本 '!B39=\"\",\"\",'生徒基本 '!B39)","v":""},{"$f":"IF(出席状況!C39=\"\",\"\",出席状況!C39)","v":""},{"$f":"IF(出席状況!D39=\"\",\"\",出席状況!D39)","v":""},{"$f":"IF(出席状況!E39=\"\",\"\",出席状況!E39)","v":""},{"$f":"IF(出席状況!G39=\"\",\"\",出席状況!G39)","v":""},{"$f":"IF(出席状況!H39=\"\",\"\",出席状況!H39)","v":""},{"$f":"IF(出席状況!I39=\"\",\"\",出席状況!I39)","v":""},{"$f":"IF(出席状況!K39=\"\",\"\",出席状況!K39)","v":""},{"$f":"IF(出席状況!L39=\"\",\"\",出席状況!L39)","v":""},{"$f":"IF(出席状況!M39=\"\",\"\",出席状況!M39)","v":""}]
[{"$f":"IF('生徒基本 '!A40=\"\",\"\",'生徒基本 '!A40)","v":38},{"$f":"IF('生徒基本 '!B40=\"\",\"\",'生徒基本 '!B40)","v":""},{"$f":"IF(出席状況!C40=\"\",\"\",出席状況!C40)","v":""},{"$f":"IF(出席状況!D40=\"\",\"\",出席状況!D40)","v":""},{"$f":"IF(出席状況!E40=\"\",\"\",出席状況!E40)","v":""},{"$f":"IF(出席状況!G40=\"\",\"\",出席状況!G40)","v":""},{"$f":"IF(出席状況!H40=\"\",\"\",出席状況!H40)","v":""},{"$f":"IF(出席状況!I40=\"\",\"\",出席状況!I40)","v":""},{"$f":"IF(出席状況!K40=\"\",\"\",出席状況!K40)","v":""},{"$f":"IF(出席状況!L40=\"\",\"\",出席状況!L40)","v":""},{"$f":"IF(出席状況!M40=\"\",\"\",出席状況!M40)","v":""}]
[{"$f":"IF('生徒基本 '!A41=\"\",\"\",'生徒基本 '!A41)","v":39},{"$f":"IF('生徒基本 '!B41=\"\",\"\",'生徒基本 '!B41)","v":""},{"$f":"IF(出席状況!C41=\"\",\"\",出席状況!C41)","v":""},{"$f":"IF(出席状況!D41=\"\",\"\",出席状況!D41)","v":""},{"$f":"IF(出席状況!E41=\"\",\"\",出席状況!E41)","v":""},{"$f":"IF(出席状況!G41=\"\",\"\",出席状況!G41)","v":""},{"$f":"IF(出席状況!H41=\"\",\"\",出席状況!H41)","v":""},{"$f":"IF(出席状況!I41=\"\",\"\",出席状況!I41)","v":""},{"$f":"IF(出席状況!K41=\"\",\"\",出席状況!K41)","v":""},{"$f":"IF(出席状況!L41=\"\",\"\",出席状況!L41)","v":""},{"$f":"IF(出席状況!M41=\"\",\"\",出席状況!M41)","v":""}]
[{"$f":"IF('生徒基本 '!A42=\"\",\"\",'生徒基本 '!A42)","v":40},{"$f":"IF('生徒基本 '!B42=\"\",\"\",'生徒基本 '!B42)","v":""},{"$f":"IF(出席状況!C42=\"\",\"\",出席状況!C42)","v":""},{"$f":"IF(出席状況!D42=\"\",\"\",出席状況!D42)","v":""},{"$f":"IF(出席状況!E42=\"\",\"\",出席状況!E42)","v":""},{"$f":"IF(出席状況!G42=\"\",\"\",出席状況!G42)","v":""},{"$f":"IF(出席状況!H42=\"\",\"\",出席状況!H42)","v":""},{"$f":"IF(出席状況!I42=\"\",\"\",出席状況!I42)","v":""},{"$f":"IF(出席状況!K42=\"\",\"\",出席状況!K42)","v":""},{"$f":"IF(出席状況!L42=\"\",\"\",出席状況!L42)","v":""},{"$f":"IF(出席状況!M42=\"\",\"\",出席状況!M42)","v":""}]

{"sheet":"成績表","index":6,"n_rows":43,"n_cols":26,"rows_kept":43,"cut":false,"hidden":false,"merged":[[1,9,2,9],[1,8,2,8],[1,10,2,10],[1,5,2,5],[0,0,0,10],[1,0,2,0],[1,1,2,1],[1,2,2,2],[1,3,2,3],[1,4,2,4],[1,7,2,7],[1,6,2,6]]}
["※ 三学年二学期末で５段階評定をご記入ください。"]
["№","氏名","国語","社会","数学","理科","音楽","美術","保体","家庭","英語"]
[]
[{"$f":"IF('生徒基本 '!A3=\"\",\"\",'生徒基本 '!A3)","v":1},{"$f":"IF('生徒基本 '!B3=\"\",\"\",'生徒基本 '!B3)","v":""},null,null,null,null,null,null,null,null,null,null,null,null,null,12,13,14,15,16,17,18,19,20,21,"……処理対象となる列番号"]
[{"$f":"IF('生徒基本 '!A4=\"\",\"\",'生徒基本 '!A4)","v":2},{"$f":"IF('生徒基本 '!B4=\"\",\"\",'生徒基本 '!B4)","v":""},null,null,null,null,null,null,null,null,null,null,null,null,null,{"$f":"IF(VLOOKUP($P$9,$A$4:$K$43,P4)=\"\",\"\",VLOOKUP($P$9,$A$4:$K$43,P4))","v":{"$error":"#REF!"}},{"$error":"#REF!"},{"$error":"#REF!"},{"$error":"#REF!"},{"$error":"#REF!"},{"$error":"#REF!"},{"$error":"#REF!"},{"$error":"#REF!"},{"$error":"#REF!"},{"$error":"#REF!"},"……処理対象の選択教科評定"]
[{"$f":"IF('生徒基本 '!A5=\"\",\"\",'生徒基本 '!A5)","v":3},{"$f":"IF('生徒基本 '!B5=\"\",\"\",'生徒基本 '!B5)","v":""},null,null,null,null,null,null,null,null,null,null,null,null,null,{"$f":"IF(P5=\"\",\"\",P4)","v":{"$error":"#REF!"}},{"$error":"#REF!"},{"$error":"#REF!"},{"$error":"#REF!"},{"$error":"#REF!"},{"$error":"#REF!"},{"$error":"#REF!"},{"$error":"#REF!"},{"$error":"#REF!"},{"$error":"#REF!"},"……空白でないセルの列番号"]
[{"$f":"IF('生徒基本 '!A6=\"\",\"\",'生徒基本 '!A6)","v":4},{"$f":"IF('生徒基本 '!B6=\"\",\"\",'生徒基本 '!B6)","v":""},null,null,null,null,null,null,null,null,null,null,null,null,null,{"$f":"IF(ISERROR(SMALL($P$6:$Y$6,1))=TRUE,\"\",SMALL($P$6:$Y$6,1))","v":""},{"$f":"IF(ISERROR(SMALL($P$6:$Y$6,2))=TRUE,\"\",SMALL($P$6:$Y$6,2))","v":""},{"$f":"IF(ISERROR(SMALL($P$6:$Y$6,3))=TRUE,\"\",SMALL($P$6:$Y$6,3))","v":""},{"$f":"IF(ISERROR(SMALL($P$6:$Y$6,4))=TRUE,\"\",SMALL($P$6:$Y$6,4))","v":""},{"$f":"IF(ISERROR(SMALL($P$6:$Y$6,5))=TRUE,\"\",SMALL($P$6:$Y$6,5))","v":""},{"$f":"IF(ISERROR(SMALL($P$6:$Y$6,6))=TRUE,\"\",SMALL($P$6:$Y$6,6))","v":""},{"$f":"IF(ISERROR(SMALL($P$6:$Y$6,7))=TRUE,\"\",SMALL($P$6:$Y$6,7))","v":""},{"$f":"IF(ISERROR(SMALL($P$6:$Y$6,8))=TRUE,\"\",SMALL($P$6:$Y$6,8))","v":""},{"$f":"IF(ISERROR(SMALL($P$6:$Y$6,9))=TRUE,\"\",SMALL($P$6:$Y$6,9))","v":""},{"$f":"IF(ISERROR(SMALL($P$6:$Y$6,10))=TRUE,\"\",SMALL($P$6:$Y$6,10))","v":""},"……表示するセルをまとめる"]
[{"$f":"IF('生徒基本 '!A7=\"\",\"\",'生徒基本 '!A7)","v":5},{"$f":"IF('生徒基本 '!B7=\"\",\"\",'生徒基本 '!B7)","v":""}]
[{"$f":"IF('生徒基本 '!A8=\"\",\"\",'生徒基本 '!A8)","v":6},{"$f":"IF('生徒基本 '!B8=\"\",\"\",'生徒基本 '!B8)","v":""},null,null,null,null,null,null,null,null,null,null,null,null,null,{"$f":"#REF!","v":{"$error":"#REF!"}},"……調査書印刷シートの番号入力欄の番地"]
[{"$f":"IF('生徒基本 '!A9=\"\",\"\",'生徒基本 '!A9)","v":7},{"$f":"IF('生徒基本 '!B9=\"\",\"\",'生徒基本 '!B9)","v":""}]
[{"$f":"IF('生徒基本 '!A10=\"\",\"\",'生徒基本 '!A10)","v":8},{"$f":"IF('生徒基本 '!B10=\"\",\"\",'生徒基本 '!B10)","v":""},null,null,null,null,null,null,null,null,null,null,null,null,null,"科目",{"$f":"IF(P7<>\"\",INDEX(#REF!,1,P7-11),\"\")","v":""},{"$f":"IF(Q7<>\"\",INDEX(#REF!,1,Q7-11),\"\")","v":""},{"$f":"IF(R7<>\"\",INDEX(#REF!,1,R7-11),\"\")","v":""},{"$f":"IF(S7<>\"\",INDEX(#REF!,1,S7-11),\"\")","v":""},{"$f":"IF(T7<>\"\",INDEX(#REF!,1,T7-11),\"\")","v":""},{"$f":"IF(U7<>\"\",INDEX(#REF!,1,U7-11),\"\")","v":""},"……調査書選択教科に転送する教科名"]
[{"$f":"IF('生徒基本 '!A11=\"\",\"\",'生徒基本 '!A11)","v":9},{"$f":"IF('生徒基本 '!B11=\"\",\"\",'生徒基本 '!B11)","v":""},null,null,null,null,null,null,null,null,null,null,null,null,null,"評定",{"$f":"IF(ISERROR(VLOOKUP($P$9,$A$4:$K$43,P7,0))=TRUE,\"\",VLOOKUP($P$9,$A$4:$K$43,P7,0))","v":""},"","","","","","……調査書選択教科に転送する評定"]
[{"$f":"IF('生徒基本 '!A12=\"\",\"\",'生徒基本 '!A12)","v":10},{"$f":"IF('生徒基本 '!B12=\"\",\"\",'生徒基本 '!B12)","v":""}]
[{"$f":"IF('生徒基本 '!A13=\"\",\"\",'生徒基本 '!A13)","v":11},{"$f":"IF('生徒基本 '!B13=\"\",\"\",'生徒基本 '!B13)","v":""}]
[{"$f":"IF('生徒基本 '!A14=\"\",\"\",'生徒基本 '!A14)","v":12},{"$f":"IF('生徒基本 '!B14=\"\",\"\",'生徒基本 '!B14)","v":""}]
[{"$f":"IF('生徒基本 '!A15=\"\",\"\",'生徒基本 '!A15)","v":13},{"$f":"IF('生徒基本 '!B15=\"\",\"\",'生徒基本 '!B15)","v":""}]
[{"$f":"IF('生徒基本 '!A16=\"\",\"\",'生徒基本 '!A16)","v":14},{"$f":"IF('生徒基本 '!B16=\"\",\"\",'生徒基本 '!B16)","v":""}]
[{"$f":"IF('生徒基本 '!A17=\"\",\"\",'生徒基本 '!A17)","v":15},{"$f":"IF('生徒基本 '!B17=\"\",\"\",'生徒基本 '!B17)","v":""}]
[{"$f":"IF('生徒基本 '!A18=\"\",\"\",'生徒基本 '!A18)","v":16},{"$f":"IF('生徒基本 '!B18=\"\",\"\",'生徒基本 '!B18)","v":""}]
[{"$f":"IF('生徒基本 '!A19=\"\",\"\",'生徒基本 '!A19)","v":17},{"$f":"IF('生徒基本 '!B19=\"\",\"\",'生徒基本 '!B19)","v":""}]
[{"$f":"IF('生徒基本 '!A20=\"\",\"\",'生徒基本 '!A20)","v":18},{"$f":"IF('生徒基本 '!B20=\"\",\"\",'生徒基本 '!B20)","v":""}]
[{"$f":"IF('生徒基本 '!A21=\"\",\"\",'生徒基本 '!A21)","v":19},{"$f":"IF('生徒基本 '!B21=\"\",\"\",'生徒基本 '!B21)","v":""}]
[{"$f":"IF('生徒基本 '!A22=\"\",\"\",'生徒基本 '!A22)","v":20},{"$f":"IF('生徒基本 '!B22=\"\",\"\",'生徒基本 '!B22)","v":""}]
[{"$f":"IF('生徒基本 '!A23=\"\",\"\",'生徒基本 '!A23)","v":21},{"$f":"IF('生徒基本 '!B23=\"\",\"\",'生徒基本 '!B23)","v":""}]
[{"$f":"IF('生徒基本 '!A24=\"\",\"\",'生徒基本 '!A24)","v":22},{"$f":"IF('生徒基本 '!B24=\"\",\"\",'生徒基本 '!B24)","v":""}]
[{"$f":"IF('生徒基本 '!A25=\"\",\"\",'生徒基本 '!A25)","v":23},{"$f":"IF('生徒基本 '!B25=\"\",\"\",'生徒基本 '!B25)","v":""}]
[{"$f":"IF('生徒基本 '!A26=\"\",\"\",'生徒基本 '!A26)","v":24},{"$f":"IF('生徒基本 '!B26=\"\",\"\",'生徒基本 '!B26)","v":""}]
[{"$f":"IF('生徒基本 '!A27=\"\",\"\",'生徒基本 '!A27)","v":25},{"$f":"IF('生徒基本 '!B27=\"\",\"\",'生徒基本 '!B27)","v":""}]
[{"$f":"IF('生徒基本 '!A28=\"\",\"\",'生徒基本 '!A28)","v":26},{"$f":"IF('生徒基本 '!B28=\"\",\"\",'生徒基本 '!B28)","v":""}]
[{"$f":"IF('生徒基本 '!A29=\"\",\"\",'生徒基本 '!A29)","v":27},{"$f":"IF('生徒基本 '!B29=\"\",\"\",'生徒基本 '!B29)","v":""}]
[{"$f":"IF('生徒基本 '!A30=\"\",\"\",'生徒基本 '!A30)","v":28},{"$f":"IF('生徒基本 '!B30=\"\",\"\",'生徒基本 '!B30)","v":""}]
[{"$f":"IF('生徒基本 '!A31=\"\",\"\",'生徒基本 '!A31)","v":29},{"$f":"IF('生徒基本 '!B31=\"\",\"\",'生徒基本 '!B31)","v":""}]
[{"$f":"IF('生徒基本 '!A32=\"\",\"\",'生徒基本 '!A32)","v":30},{"$f":"IF('生徒基本 '!B32=\"\",\"\",'生徒基本 '!B32)","v":""}]
[{"$f":"IF('生徒基本 '!A33=\"\",\"\",'生徒基本 '!A33)","v":31},{"$f":"IF('生徒基本 '!B33=\"\",\"\",'生徒基本 '!B33)","v":""}]
[{"$f":"IF('生徒基本 '!A34=\"\",\"\",'生徒基本 '!A34)","v":32},{"$f":"IF('生徒基本 '!B34=\"\",\"\",'生徒基本 '!B34)","v":""}]
[{"$f":"IF('生徒基本 '!A35=\"\",\"\",'生徒基本 '!A35)","v":33},{"$f":"IF('生徒基本 '!B35=\"\",\"\",'生徒基本 '!B35)","v":""}]
[{"$f":"IF('生徒基本 '!A36=\"\",\"\",'生徒基本 '!A36)","v":34},{"$f":"IF('生徒基本 '!B36=\"\",\"\",'生徒基本 '!B36)","v":""}]
[{"$f":"IF('生徒基本 '!A37=\"\",\"\",'生徒基本 '!A37)","v":35},{"$f":"IF('生徒基本 '!B37=\"\",\"\",'生徒基本 '!B37)","v":""}]
[{"$f":"IF('生徒基本 '!A38=\"\",\"\",'生徒基本 '!A38)","v":36},{"$f":"IF('生徒基本 '!B38=\"\",\"\",'生徒基本 '!B38)","v":""}]
[{"$f":"IF('生徒基本 '!A39=\"\",\"\",'生徒基本 '!A39)","v":37},{"$f":"IF('生徒基本 '!B39=\"\",\"\",'生徒基本 '!B39)","v":""}]
[{"$f":"IF('生徒基本 '!A40=\"\",\"\",'生徒基本 '!A40)","v":38},{"$f":"IF('生徒基本 '!B40=\"\",\"\",'生徒基本 '!B40)","v":""}]
[{"$f":"IF('生徒基本 '!A41=\"\",\"\",'生徒基本 '!A41)","v":39},{"$f":"IF('生徒基本 '!B41=\"\",\"\",'生徒基本 '!B41)","v":""}]
[{"$f":"IF('生徒基本 '!A42=\"\",\"\",'生徒基本 '!A42)","v":40},{"$f":"IF('生徒基本 '!B42=\"\",\"\",'生徒基本 '!B42)","v":""}]

{"sheet":"特別活動等","index":7,"n_rows":42,"n_cols":5,"rows_kept":42,"cut":false,"hidden":false,"merged":[[0,4,1,4],[0,0,1,0],[0,1,1,1],[0,2,1,2],[0,3,1,3]]}
["№","氏名","部活","資格取得等","大会等での成績や活動状況（約１２０字記入可能）"]
[]
[{"$f":"IF('生徒基本 '!A3=\"\",\"\",'生徒基本 '!A3)","v":1},{"$f":"IF('生徒基本 '!B3=\"\",\"\",'生徒基本 '!B3)","v":""}]
[{"$f":"IF('生徒基本 '!A4=\"\",\"\",'生徒基本 '!A4)","v":2},{"$f":"IF('生徒基本 '!B4=\"\",\"\",'生徒基本 '!B4)","v":""}]
[{"$f":"IF('生徒基本 '!A5=\"\",\"\",'生徒基本 '!A5)","v":3},{"$f":"IF('生徒基本 '!B5=\"\",\"\",'生徒基本 '!B5)","v":""}]
[{"$f":"IF('生徒基本 '!A6=\"\",\"\",'生徒基本 '!A6)","v":4},{"$f":"IF('生徒基本 '!B6=\"\",\"\",'生徒基本 '!B6)","v":""}]
[{"$f":"IF('生徒基本 '!A7=\"\",\"\",'生徒基本 '!A7)","v":5},{"$f":"IF('生徒基本 '!B7=\"\",\"\",'生徒基本 '!B7)","v":""}]
[{"$f":"IF('生徒基本 '!A8=\"\",\"\",'生徒基本 '!A8)","v":6},{"$f":"IF('生徒基本 '!B8=\"\",\"\",'生徒基本 '!B8)","v":""}]
[{"$f":"IF('生徒基本 '!A9=\"\",\"\",'生徒基本 '!A9)","v":7},{"$f":"IF('生徒基本 '!B9=\"\",\"\",'生徒基本 '!B9)","v":""}]
[{"$f":"IF('生徒基本 '!A10=\"\",\"\",'生徒基本 '!A10)","v":8},{"$f":"IF('生徒基本 '!B10=\"\",\"\",'生徒基本 '!B10)","v":""}]
[{"$f":"IF('生徒基本 '!A11=\"\",\"\",'生徒基本 '!A11)","v":9},{"$f":"IF('生徒基本 '!B11=\"\",\"\",'生徒基本 '!B11)","v":""}]
[{"$f":"IF('生徒基本 '!A12=\"\",\"\",'生徒基本 '!A12)","v":10},{"$f":"IF('生徒基本 '!B12=\"\",\"\",'生徒基本 '!B12)","v":""}]
[{"$f":"IF('生徒基本 '!A13=\"\",\"\",'生徒基本 '!A13)","v":11},{"$f":"IF('生徒基本 '!B13=\"\",\"\",'生徒基本 '!B13)","v":""}]
[{"$f":"IF('生徒基本 '!A14=\"\",\"\",'生徒基本 '!A14)","v":12},{"$f":"IF('生徒基本 '!B14=\"\",\"\",'生徒基本 '!B14)","v":""}]
[{"$f":"IF('生徒基本 '!A15=\"\",\"\",'生徒基本 '!A15)","v":13},{"$f":"IF('生徒基本 '!B15=\"\",\"\",'生徒基本 '!B15)","v":""}]
[{"$f":"IF('生徒基本 '!A16=\"\",\"\",'生徒基本 '!A16)","v":14},{"$f":"IF('生徒基本 '!B16=\"\",\"\",'生徒基本 '!B16)","v":""}]
[{"$f":"IF('生徒基本 '!A17=\"\",\"\",'生徒基本 '!A17)","v":15},{"$f":"IF('生徒基本 '!B17=\"\",\"\",'生徒基本 '!B17)","v":""}]
[{"$f":"IF('生徒基本 '!A18=\"\",\"\",'生徒基本 '!A18)","v":16},{"$f":"IF('生徒基本 '!B18=\"\",\"\",'生徒基本 '!B18)","v":""}]
[{"$f":"IF('生徒基本 '!A19=\"\",\"\",'生徒基本 '!A19)","v":17},{"$f":"IF('生徒基本 '!B19=\"\",\"\",'生徒基本 '!B19)","v":""}]
[{"$f":"IF('生徒基本 '!A20=\"\",\"\",'生徒基本 '!A20)","v":18},{"$f":"IF('生徒基本 '!B20=\"\",\"\",'生徒基本 '!B20)","v":""}]
[{"$f":"IF('生徒基本 '!A21=\"\",\"\",'生徒基本 '!A21)","v":19},{"$f":"IF('生徒基本 '!B21=\"\",\"\",'生徒基本 '!B21)","v":""}]
[{"$f":"IF('生徒基本 '!A22=\"\",\"\",'生徒基本 '!A22)","v":20},{"$f":"IF('生徒基本 '!B22=\"\",\"\",'生徒基本 '!B22)","v":""}]
[{"$f":"IF('生徒基本 '!A23=\"\",\"\",'生徒基本 '!A23)","v":21},{"$f":"IF('生徒基本 '!B23=\"\",\"\",'生徒基本 '!B23)","v":""}]
[{"$f":"IF('生徒基本 '!A24=\"\",\"\",'生徒基本 '!A24)","v":22},{"$f":"IF('生徒基本 '!B24=\"\",\"\",'生徒基本 '!B24)","v":""}]
[{"$f":"IF('生徒基本 '!A25=\"\",\"\",'生徒基本 '!A25)","v":23},{"$f":"IF('生徒基本 '!B25=\"\",\"\",'生徒基本 '!B25)","v":""}]
[{"$f":"IF('生徒基本 '!A26=\"\",\"\",'生徒基本 '!A26)","v":24},{"$f":"IF('生徒基本 '!B26=\"\",\"\",'生徒基本 '!B26)","v":""}]
[{"$f":"IF('生徒基本 '!A27=\"\",\"\",'生徒基本 '!A27)","v":25},{"$f":"IF('生徒基本 '!B27=\"\",\"\",'生徒基本 '!B27)","v":""}]
[{"$f":"IF('生徒基本 '!A28=\"\",\"\",'生徒基本 '!A28)","v":26},{"$f":"IF('生徒基本 '!B28=\"\",\"\",'生徒基本 '!B28)","v":""}]
[{"$f":"IF('生徒基本 '!A29=\"\",\"\",'生徒基本 '!A29)","v":27},{"$f":"IF('生徒基本 '!B29=\"\",\"\",'生徒基本 '!B29)","v":""}]
[{"$f":"IF('生徒基本 '!A30=\"\",\"\",'生徒基本 '!A30)","v":28},{"$f":"IF('生徒基本 '!B30=\"\",\"\",'生徒基本 '!B30)","v":""}]
[{"$f":"IF('生徒基本 '!A31=\"\",\"\",'生徒基本 '!A31)","v":29},{"$f":"IF('生徒基本 '!B31=\"\",\"\",'生徒基本 '!B31)","v":""}]
[{"$f":"IF('生徒基本 '!A32=\"\",\"\",'生徒基本 '!A32)","v":30},{"$f":"IF('生徒基本 '!B32=\"\",\"\",'生徒基本 '!B32)","v":""}]
[{"$f":"IF('生徒基本 '!A33=\"\",\"\",'生徒基本 '!A33)","v":31},{"$f":"IF('生徒基本 '!B33=\"\",\"\",'生徒基本 '!B33)","v":""}]
[{"$f":"IF('生徒基本 '!A34=\"\",\"\",'生徒基本 '!A34)","v":32},{"$f":"IF('生徒基本 '!B34=\"\",\"\",'生徒基本 '!B34)","v":""}]
[{"$f":"IF('生徒基本 '!A35=\"\",\"\",'生徒基本 '!A35)","v":33},{"$f":"IF('生徒基本 '!B35=\"\",\"\",'生徒基本 '!B35)","v":""}]
[{"$f":"IF('生徒基本 '!A36=\"\",\"\",'生徒基本 '!A36)","v":34},{"$f":"IF('生徒基本 '!B36=\"\",\"\",'生徒基本 '!B36)","v":""}]
[{"$f":"IF('生徒基本 '!A37=\"\",\"\",'生徒基本 '!A37)","v":35},{"$f":"IF('生徒基本 '!B37=\"\",\"\",'生徒基本 '!B37)","v":""}]
[{"$f":"IF('生徒基本 '!A38=\"\",\"\",'生徒基本 '!A38)","v":36},{"$f":"IF('生徒基本 '!B38=\"\",\"\",'生徒基本 '!B38)","v":""}]
[{"$f":"IF('生徒基本 '!A39=\"\",\"\",'生徒基本 '!A39)","v":37},{"$f":"IF('生徒基本 '!B39=\"\",\"\",'生徒基本 '!B39)","v":""}]
[{"$f":"IF('生徒基本 '!A40=\"\",\"\",'生徒基本 '!A40)","v":38},{"$f":"IF('生徒基本 '!B40=\"\",\"\",'生徒基本 '!B40)","v":""}]
[{"$f":"IF('生徒基本 '!A41=\"\",\"\",'生徒基本 '!A41)","v":39},{"$f":"IF('生徒基本 '!B41=\"\",\"\",'生徒基本 '!B41)","v":""}]
[{"$f":"IF('生徒基本 '!A42=\"\",\"\",'生徒基本 '!A42)","v":40},{"$f":"IF('生徒基本 '!B42=\"\",\"\",'生徒基本 '!B42)","v":""}]

{"sheet":"担任所見","index":8,"n_rows":42,"n_cols":3,"rows_kept":42,"cut":false,"hidden":false,"merged":[[0,0,1,0],[0,1,1,1],[0,2,1,2],[0,3,1,3]]}
["№","氏名","担任所見および指導上の参考事項 （ 約１６０字記入可能 ）"]
[]
[{"$f":"IF('生徒基本 '!A3=\"\",\"\",'生徒基本 '!A3)","v":1},{"$f":"IF('生徒基本 '!B3=\"\",\"\",'生徒基本 '!B3)","v":""}]
[{"$f":"IF('生徒基本 '!A4=\"\",\"\",'生徒基本 '!A4)","v":2},{"$f":"IF('生徒基本 '!B4=\"\",\"\",'生徒基本 '!B4)","v":""}]
[{"$f":"IF('生徒基本 '!A5=\"\",\"\",'生徒基本 '!A5)","v":3},{"$f":"IF('生徒基本 '!B5=\"\",\"\",'生徒基本 '!B5)","v":""}]
[{"$f":"IF('生徒基本 '!A6=\"\",\"\",'生徒基本 '!A6)","v":4},{"$f":"IF('生徒基本 '!B6=\"\",\"\",'生徒基本 '!B6)","v":""}]
[{"$f":"IF('生徒基本 '!A7=\"\",\"\",'生徒基本 '!A7)","v":5},{"$f":"IF('生徒基本 '!B7=\"\",\"\",'生徒基本 '!B7)","v":""}]
[{"$f":"IF('生徒基本 '!A8=\"\",\"\",'生徒基本 '!A8)","v":6},{"$f":"IF('生徒基本 '!B8=\"\",\"\",'生徒基本 '!B8)","v":""}]
[{"$f":"IF('生徒基本 '!A9=\"\",\"\",'生徒基本 '!A9)","v":7},{"$f":"IF('生徒基本 '!B9=\"\",\"\",'生徒基本 '!B9)","v":""}]
[{"$f":"IF('生徒基本 '!A10=\"\",\"\",'生徒基本 '!A10)","v":8},{"$f":"IF('生徒基本 '!B10=\"\",\"\",'生徒基本 '!B10)","v":""}]
[{"$f":"IF('生徒基本 '!A11=\"\",\"\",'生徒基本 '!A11)","v":9},{"$f":"IF('生徒基本 '!B11=\"\",\"\",'生徒基本 '!B11)","v":""}]
[{"$f":"IF('生徒基本 '!A12=\"\",\"\",'生徒基本 '!A12)","v":10},{"$f":"IF('生徒基本 '!B12=\"\",\"\",'生徒基本 '!B12)","v":""}]
[{"$f":"IF('生徒基本 '!A13=\"\",\"\",'生徒基本 '!A13)","v":11},{"$f":"IF('生徒基本 '!B13=\"\",\"\",'生徒基本 '!B13)","v":""}]
[{"$f":"IF('生徒基本 '!A14=\"\",\"\",'生徒基本 '!A14)","v":12},{"$f":"IF('生徒基本 '!B14=\"\",\"\",'生徒基本 '!B14)","v":""}]
[{"$f":"IF('生徒基本 '!A15=\"\",\"\",'生徒基本 '!A15)","v":13},{"$f":"IF('生徒基本 '!B15=\"\",\"\",'生徒基本 '!B15)","v":""}]
[{"$f":"IF('生徒基本 '!A16=\"\",\"\",'生徒基本 '!A16)","v":14},{"$f":"IF('生徒基本 '!B16=\"\",\"\",'生徒基本 '!B16)","v":""}]
[{"$f":"IF('生徒基本 '!A17=\"\",\"\",'生徒基本 '!A17)","v":15},{"$f":"IF('生徒基本 '!B17=\"\",\"\",'生徒基本 '!B17)","v":""}]
[{"$f":"IF('生徒基本 '!A18=\"\",\"\",'生徒基本 '!A18)","v":16},{"$f":"IF('生徒基本 '!B18=\"\",\"\",'生徒基本 '!B18)","v":""}]
[{"$f":"IF('生徒基本 '!A19=\"\",\"\",'生徒基本 '!A19)","v":17},{"$f":"IF('生徒基本 '!B19=\"\",\"\",'生徒基本 '!B19)","v":""}]
[{"$f":"IF('生徒基本 '!A20=\"\",\"\",'生徒基本 '!A20)","v":18},{"$f":"IF('生徒基本 '!B20=\"\",\"\",'生徒基本 '!B20)","v":""}]
[{"$f":"IF('生徒基本 '!A21=\"\",\"\",'生徒基本 '!A21)","v":19},{"$f":"IF('生徒基本 '!B21=\"\",\"\",'生徒基本 '!B21)","v":""}]
[{"$f":"IF('生徒基本 '!A22=\"\",\"\",'生徒基本 '!A22)","v":20},{"$f":"IF('生徒基本 '!B22=\"\",\"\",'生徒基本 '!B22)","v":""}]
[{"$f":"IF('生徒基本 '!A23=\"\",\"\",'生徒基本 '!A23)","v":21},{"$f":"IF('生徒基本 '!B23=\"\",\"\",'生徒基本 '!B23)","v":""}]
[{"$f":"IF('生徒基本 '!A24=\"\",\"\",'生徒基本 '!A24)","v":22},{"$f":"IF('生徒基本 '!B24=\"\",\"\",'生徒基本 '!B24)","v":""}]
[{"$f":"IF('生徒基本 '!A25=\"\",\"\",'生徒基本 '!A25)","v":23},{"$f":"IF('生徒基本 '!B25=\"\",\"\",'生徒基本 '!B25)","v":""}]
[{"$f":"IF('生徒基本 '!A26=\"\",\"\",'生徒基本 '!A26)","v":24},{"$f":"IF('生徒基本 '!B26=\"\",\"\",'生徒基本 '!B26)","v":""}]
[{"$f":"IF('生徒基本 '!A27=\"\",\"\",'生徒基本 '!A27)","v":25},{"$f":"IF('生徒基本 '!B27=\"\",\"\",'生徒基本 '!B27)","v":""}]
[{"$f":"IF('生徒基本 '!A28=\"\",\"\",'生徒基本 '!A28)","v":26},{"$f":"IF('生徒基本 '!B28=\"\",\"\",'生徒基本 '!B28)","v":""}]
[{"$f":"IF('生徒基本 '!A29=\"\",\"\",'生徒基本 '!A29)","v":27},{"$f":"IF('生徒基本 '!B29=\"\",\"\",'生徒基本 '!B29)","v":""}]
[{"$f":"IF('生徒基本 '!A30=\"\",\"\",'生徒基本 '!A30)","v":28},{"$f":"IF('生徒基本 '!B30=\"\",\"\",'生徒基本 '!B30)","v":""}]
[{"$f":"IF('生徒基本 '!A31=\"\",\"\",'生徒基本 '!A31)","v":29},{"$f":"IF('生徒基本 '!B31=\"\",\"\",'生徒基本 '!B31)","v":""}]
[{"$f":"IF('生徒基本 '!A32=\"\",\"\",'生徒基本 '!A32)","v":30},{"$f":"IF('生徒基本 '!B32=\"\",\"\",'生徒基本 '!B32)","v":""}]
[{"$f":"IF('生徒基本 '!A33=\"\",\"\",'生徒基本 '!A33)","v":31},{"$f":"IF('生徒基本 '!B33=\"\",\"\",'生徒基本 '!B33)","v":""}]
[{"$f":"IF('生徒基本 '!A34=\"\",\"\",'生徒基本 '!A34)","v":32},{"$f":"IF('生徒基本 '!B34=\"\",\"\",'生徒基本 '!B34)","v":""}]
[{"$f":"IF('生徒基本 '!A35=\"\",\"\",'生徒基本 '!A35)","v":33},{"$f":"IF('生徒基本 '!B35=\"\",\"\",'生徒基本 '!B35)","v":""}]
[{"$f":"IF('生徒基本 '!A36=\"\",\"\",'生徒基本 '!A36)","v":34},{"$f":"IF('生徒基本 '!B36=\"\",\"\",'生徒基本 '!B36)","v":""}]
[{"$f":"IF('生徒基本 '!A37=\"\",\"\",'生徒基本 '!A37)","v":35},{"$f":"IF('生徒基本 '!B37=\"\",\"\",'生徒基本 '!B37)","v":""}]
[{"$f":"IF('生徒基本 '!A38=\"\",\"\",'生徒基本 '!A38)","v":36},{"$f":"IF('生徒基本 '!B38=\"\",\"\",'生徒基本 '!B38)","v":""}]
[{"$f":"IF('生徒基本 '!A39=\"\",\"\",'生徒基本 '!A39)","v":37},{"$f":"IF('生徒基本 '!B39=\"\",\"\",'生徒基本 '!B39)","v":""}]
[{"$f":"IF('生徒基本 '!A40=\"\",\"\",'生徒基本 '!A40)","v":38},{"$f":"IF('生徒基本 '!B40=\"\",\"\",'生徒基本 '!B40)","v":""}]
[{"$f":"IF('生徒基本 '!A41=\"\",\"\",'生徒基本 '!A41)","v":39},{"$f":"IF('生徒基本 '!B41=\"\",\"\",'生徒基本 '!B41)","v":""}]
[{"$f":"IF('生徒基本 '!A42=\"\",\"\",'生徒基本 '!A42)","v":40},{"$f":"IF('生徒基本 '!B42=\"\",\"\",'生徒基本 '!B42)","v":""}]